Workbook

Sheet About
B2: Error Log — Official Guide to the GRE, 2024
B3: A working tool to log every practice question, spot patterns, and drill your weak areas.
B5: How to use this workbook
B6: 1. Log every question you attempt by Page / Q# in the OG — no question text or answer choices are stored,
B7: consistent with ETS copyright. This is a metadata log, not a copy of the book.
B8: 2. Mark Status as 'New (Mixed Practice Set)' or 'Carried Over (Prior Edition)' — all Mixed Practice Set
B9: questions in this edition are new; everything else carries over from the prior OG.
B10: 3. Fill only the taxonomy column(s) relevant to that row's Question Type: Verbal - Logic Tested for
B11: TC/SE; RC - Domain/Length/Question Type Tag for RC; Quant - Topic for all Quant question types.
B12: 4. The 'Correct?' column auto-fills by comparing Official Answer to Your Answer — override if needed.
B13: 5. The 'Analysis' tab auto-calculates accuracy by section, type, status, difficulty, and every taxonomy
B14: category above — no manual work needed.
... B28: section of the OG so you can track progress over time, or keep everything in one running log — your call.

Sheet Lists
A1: Section | B1: Question Type | C1: Status | D1: Difficulty | E1: Verbal - Logic Tested | F1: RC - Passage Domain | G1: RC - Passage Length | H1: RC - Question Type Tag | I1: Quant - Topic | J1: Error Type | K1: Flag
A2: Verbal | B2: Text Completion | C2: New (Mixed Practice Set) | D2: Easy | E2: Definitional sentence | F2: Passage Paragraph Argument | G2: Long Reading | H2: Assumption | I2: Absolute Values/Modules | J2: Careless / Rushed | K2: Yes
A3: Quant | B3: Sentence Equivalence | C3: Carried Over (Prior Edition) | D3: Medium | E3: Punctuation | F3: Business | G3: Medium Reading | H3: Complete the passage | I3: Algebra | J3: Misread Question | K3: No
B4: Reading Comprehension | C4: New (Practice Test 1) | D4: Hard | E4: Contrast-shift | F4: History | G4: Short Reading | H4: Conclusion | I4: Arithmetic | J4: Vocabulary Gap
B5: Quant Comparison | C5: New (Practice Test 2) | E5: Parallel Structure | F5: Humanities | H5: Discrepancy | I5: Coordinate Geometry | J5: Content Knowledge Gap
B6: Problem Solving | E6: Conditional Sentence | F6: Science | H6: Evaluate | I6: Counting Methods | J6: Wrong Strategy
B7: Data Interpretation | E7: Subordinating Conjunction | F7: Social Science | H7: EXCEPT | I7: Data Analysis | J7: Time Pressure
B8: Multi-Source Reasoning | H8: Inference | I8: Distance/Rate Problems | J8: Trap Answer / Distractor
H9: Main Idea | I9: Divisibility/Multiples/Factors | J9: Calculation Error
H10: Select in the passage | I10: Exponents/Roots | J10: Didn't Finish
H11: Strengthen | I11: Fractions/Ratios/Decimals | J11: Other
H12: Text Portions Role | I12: Functions
H13: Tone of the passage | I13: Geometry
H14: Weaken | I14: Graphs and Illustrations
H15: Word Meaning | I15: Inequalities
I16: Mixture Problem
I17: Numbers Properties
I18: Overlapping Set
I19: Percent and Interest Problem
I20: Probability
I21: Remainders
I22: Sequences
I23: Statistics and Sets Problem
I24: Strange Symbols
I25: Word Problem
I26: Work/Rate Problem

Sheet Error Log
A1: Q# | B1: Page / Q# in OG | C1: Section | D1: Question Type | E1: Status | F1: Difficulty | G1: Verbal - Logic Tested | H1: RC - Passage Domain | I1: RC - Passage Length | J1: RC - Question Type Tag | K1: Quant - Topic | L1: Official Answer | M1: Your Answer | N1: Correct? | O1: Error Type | P1: Notes | Q1: Flag for Redo
A2: =IF(B2="","",COUNTA($B$2:B2)) -> 1 | B2: p.38 Q1 | C2: Verbal | D2: Text Completion | E2: Carried Over (Prior Edition) | F2: Easy | G2: Subordinating Conjunction | L2: E | M2: a | N2: =IF(OR(L2="",M2=""),"",IF(UPPER(SUBSTITUTE(L2," ",""))=UPPER(SUBSTITUTE(M2," ","")),"Correct","Incorrect")) -> Incorrect
A3: =IF(B3="","",COUNTA($B$2:B3)) -> 2 | B3: p.38 Q2 | C3: Verbal | D3: Text Completion | E3: Carried Over (Prior Edition) | F3: Easy | G3: Parallel Structure | L3: A | N3: =IF(OR(L3="",M3=""),"",IF(UPPER(SUBSTITUTE(L3," ",""))=UPPER(SUBSTITUTE(M3," ","")),"Correct","Incorrect"))
A4: =IF(B4="","",COUNTA($B$2:B4)) -> 3 | B4: p.38 Q3 | C4: Verbal | D4: Text Completion | E4: Carried Over (Prior Edition) | F4: Easy | G4: Contrast-shift | L4: B | M4: B | N4: =IF(OR(L4="",M4=""),"",IF(UPPER(SUBSTITUTE(L4," ",""))=UPPER(SUBSTITUTE(M4," ","")),"Correct","Incorrect")) -> Correct
A5: =IF(B5="","",COUNTA($B$2:B5)) -> 4 | B5: p.38-39 Q4 | C5: Verbal | D5: Text Completion | E5: Carried Over (Prior Edition) | F5: Easy | G5: Contrast-shift | L5: A, E | M5: A,E | N5: =IF(OR(L5="",M5=""),"",IF(UPPER(SUBSTITUTE(L5," ",""))=UPPER(SUBSTITUTE(M5," ","")),"Correct","Incorrect")) -> Correct
A6: =IF(B6="","",COUNTA($B$2:B6)) -> 5 | B6: p.39 Q5 | C6: Verbal | D6: Text Completion | E6: Carried Over (Prior Edition) | F6: Easy | G6: Contrast-shift | L6: A, E | N6: =IF(OR(L6="",M6=""),"",IF(UPPER(SUBSTITUTE(L6," ",""))=UPPER(SUBSTITUTE(M6," ","")),"Correct","Incorrect"))
A7: =IF(B7="","",COUNTA($B$2:B7)) -> 6 | B7: p.39 Q6 | C7: Verbal | D7: Sentence Equivalence | E7: Carried Over (Prior Edition) | F7: Easy | G7: Definitional sentence | L7: A, D | N7: =IF(OR(L7="",M7=""),"",IF(UPPER(SUBSTITUTE(L7," ",""))=UPPER(SUBSTITUTE(M7," ","")),"Correct","Incorrect"))
A8: =IF(B8="","",COUNTA($B$2:B8)) -> 7 | B8: p.39 Q7 | C8: Verbal | D8: Sentence Equivalence | E8: Carried Over (Prior Edition) | F8: Easy | G8: Contrast-shift | L8: B, D | N8: =IF(OR(L8="",M8=""),"",IF(UPPER(SUBSTITUTE(L8," ",""))=UPPER(SUBSTITUTE(M8," ","")),"Correct","Incorrect"))
A9: =IF(B9="","",COUNTA($B$2:B9)) -> 8 | B9: p.39 Q8 | C9: Verbal | D9: Sentence Equivalence | E9: Carried Over (Prior Edition) | F9: Easy | G9: Contrast-shift | L9: C, D | M9: C,E | N9: =IF(OR(L9="",M9=""),"",IF(UPPER(SUBSTITUTE(L9," ",""))=UPPER(SUBSTITUTE(M9," ","")),"Correct","Incorrect")) -> Incorrect
A10: =IF(B10="","",COUNTA($B$2:B10)) -> 9 | B10: p.40 Q1 | C10: Verbal | D10: Reading Comprehension | E10: Carried Over (Prior Edition) | F10: Easy | H10: Passage Paragraph Argument | I10: Short Reading | J10: Main Idea | L10: B | N10: =IF(OR(L10="",M10=""),"",IF(UPPER(SUBSTITUTE(L10," ",""))=UPPER(SUBSTITUTE(M10," ","")),"Correct","Incorrect"))
A11: =IF(B11="","",COUNTA($B$2:B11)) -> 10 | B11: p.41 Q2 | C11: Verbal | D11: Reading Comprehension | E11: Carried Over (Prior Edition) | F11: Easy | H11: Humanities | I11: Medium Reading | J11: Select in the passage | L11: Sentence 4 | N11: =IF(OR(L11="",M11=""),"",IF(UPPER(SUBSTITUTE(L11," ",""))=UPPER(SUBSTITUTE(M11," ","")),"Correct","Incorrect"))
A12: =IF(B12="","",COUNTA($B$2:B12)) -> 11 | B12: p.41 Q3 | C12: Verbal | D12: Reading Comprehension | E12: Carried Over (Prior Edition) | F12: Easy | H12: Humanities | I12: Medium Reading | J12: Discrepancy | L12: C | M12: C | N12: =IF(OR(L12="",M12=""),"",IF(UPPER(SUBSTITUTE(L12," ",""))=UPPER(SUBSTITUTE(M12," ","")),"Correct","Incorrect")) -> Correct
A13: =IF(B13="","",COUNTA($B$2:B13)) -> 12 | B13: p.41 Q4 | C13: Verbal | D13: Reading Comprehension | E13: Carried Over (Prior Edition) | F13: Easy | H13: Humanities | I13: Medium Reading | J13: Inference | L13: D | N13: =IF(OR(L13="",M13=""),"",IF(UPPER(SUBSTITUTE(L13," ",""))=UPPER(SUBSTITUTE(M13," ","")),"Correct","Incorrect"))
A14: =IF(B14="","",COUNTA($B$2:B14)) -> 13 | B14: p.41 Q5 | C14: Verbal | D14: Reading Comprehension | E14: Carried Over (Prior Edition) | F14: Easy | H14: Humanities | I14: Medium Reading | J14: Text Portions Role | L14: E | M14: e | N14: =IF(OR(L14="",M14=""),"",IF(UPPER(SUBSTITUTE(L14," ",""))=UPPER(SUBSTITUTE(M14," ","")),"Correct","Incorrect")) -> Correct
A15: =IF(B15="","",COUNTA($B$2:B15)) -> 14 | B15: p.42 Q6 | C15: Verbal | D15: Reading Comprehension | E15: Carried Over (Prior Edition) | F15: Easy | H15: Social Science | I15: Medium Reading | J15: Inference | L15: B | N15: =IF(OR(L15="",M15=""),"",IF(UPPER(SUBSTITUTE(L15," ",""))=UPPER(SUBSTITUTE(M15," ","")),"Correct","Incorrect"))
A16: =IF(B16="","",COUNTA($B$2:B16)) -> 15 | B16: p.42 Q7 | C16: Verbal | D16: Reading Comprehension | E16: Carried Over (Prior Edition) | F16: Easy | H16: Social Science | I16: Medium Reading | J16: Inference | L16: D | N16: =IF(OR(L16="",M16=""),"",IF(UPPER(SUBSTITUTE(L16," ",""))=UPPER(SUBSTITUTE(M16," ","")),"Correct","Incorrect"))
A17: =IF(B17="","",COUNTA($B$2:B17)) -> 16 | B17: p.43 Q8 | C17: Verbal | D17: Reading Comprehension | E17: Carried Over (Prior Edition) | F17: Easy | H17: Science | I17: Medium Reading | J17: Main Idea | L17: B | N17: =IF(OR(L17="",M17=""),"",IF(UPPER(SUBSTITUTE(L17," ",""))=UPPER(SUBSTITUTE(M17," ","")),"Correct","Incorrect"))
A18: =IF(B18="","",COUNTA($B$2:B18)) -> 17 | B18: p.43 Q9 | C18: Verbal | D18: Reading Comprehension | E18: Carried Over (Prior Edition) | F18: Easy | H18: Science | I18: Medium Reading | J18: Text Portions Role | L18: D | N18: =IF(OR(L18="",M18=""),"",IF(UPPER(SUBSTITUTE(L18," ",""))=UPPER(SUBSTITUTE(M18," ","")),"Correct","Incorrect"))
A19: =IF(B19="","",COUNTA($B$2:B19)) -> 18 | B19: p.44 Q1 | C19: Verbal | D19: Text Completion | E19: Carried Over (Prior Edition) | F19: Medium | G19: Contrast-shift | L19: B | N19: =IF(OR(L19="",M19=""),"",IF(UPPER(SUBSTITUTE(L19," ",""))=UPPER(SUBSTITUTE(M19," ","")),"Correct","Incorrect"))
A20: =IF(B20="","",COUNTA($B$2:B20)) -> 19 | B20: p.44 Q2 | C20: Verbal | D20: Text Completion | E20: Carried Over (Prior Edition) | F20: Medium | G20: Definitional sentence | L20: A, D | N20: =IF(OR(L20="",M20=""),"",IF(UPPER(SUBSTITUTE(L20," ",""))=UPPER(SUBSTITUTE(M20," ","")),"Correct","Incorrect"))
A21: =IF(B21="","",COUNTA($B$2:B21)) -> 20 | B21: p.44 Q3 | C21: Verbal | D21: Text Completion | E21: Carried Over (Prior Edition) | F21: Medium | G21: Punctuation | L21: C, E | N21: =IF(OR(L21="",M21=""),"",IF(UPPER(SUBSTITUTE(L21," ",""))=UPPER(SUBSTITUTE(M21," ","")),"Correct","Incorrect"))
A22: =IF(B22="","",COUNTA($B$2:B22)) -> 21 | B22: p.45 Q4 | C22: Verbal | D22: Text Completion | E22: Carried Over (Prior Edition) | F22: Medium | G22: Conditional Sentence | L22: C, E, H | N22: =IF(OR(L22="",M22=""),"",IF(UPPER(SUBSTITUTE(L22," ",""))=UPPER(SUBSTITUTE(M22," ","")),"Correct","Incorrect"))
A23: =IF(B23="","",COUNTA($B$2:B23)) -> 22 | B23: p.45 Q5 | C23: Verbal | D23: Text Completion | E23: Carried Over (Prior Edition) | F23: Medium | G23: Conditional Sentence | L23: A, F, H | N23: =IF(OR(L23="",M23=""),"",IF(UPPER(SUBSTITUTE(L23," ",""))=UPPER(SUBSTITUTE(M23," ","")),"Correct","Incorrect"))
A24: =IF(B24="","",COUNTA($B$2:B24)) -> 23 | B24: p.46 Q6 | C24: Verbal | D24: Sentence Equivalence | E24: Carried Over (Prior Edition) | F24: Medium | G24: Parallel Structure | L24: A, F | N24: =IF(OR(L24="",M24=""),"",IF(UPPER(SUBSTITUTE(L24," ",""))=UPPER(SUBSTITUTE(M24," ","")),"Correct","Incorrect"))
A25: =IF(B25="","",COUNTA($B$2:B25)) -> 24 | B25: p.46 Q7 | C25: Verbal | D25: Sentence Equivalence | E25: Carried Over (Prior Edition) | F25: Medium | G25: Punctuation | L25: C, F | N25: =IF(OR(L25="",M25=""),"",IF(UPPER(SUBSTITUTE(L25," ",""))=UPPER(SUBSTITUTE(M25," ","")),"Correct","Incorrect"))
A26: =IF(B26="","",COUNTA($B$2:B26)) -> 25 | B26: p.46 Q8 | C26: Verbal | D26: Sentence Equivalence | E26: Carried Over (Prior Edition) | F26: Medium | G26: Parallel Structure | L26: A, F | N26: =IF(OR(L26="",M26=""),"",IF(UPPER(SUBSTITUTE(L26," ",""))=UPPER(SUBSTITUTE(M26," ","")),"Correct","Incorrect"))
A27: =IF(B27="","",COUNTA($B$2:B27)) -> 26 | B27: p.47 Q1 | C27: Verbal | D27: Reading Comprehension | E27: Carried Over (Prior Edition) | F27: Medium | H27: Humanities | I27: Medium Reading | J27: Evaluate | L27: A, C | N27: =IF(OR(L27="",M27=""),"",IF(UPPER(SUBSTITUTE(L27," ",""))=UPPER(SUBSTITUTE(M27," ","")),"Correct","Incorrect"))
A28: =IF(B28="","",COUNTA($B$2:B28)) -> 27 | B28: p.47 Q2 | C28: Verbal | D28: Reading Comprehension | E28: Carried Over (Prior Edition) | F28: Medium | H28: Humanities | I28: Medium Reading | J28: Text Portions Role | L28: C | N28: =IF(OR(L28="",M28=""),"",IF(UPPER(SUBSTITUTE(L28," ",""))=UPPER(SUBSTITUTE(M28," ","")),"Correct","Incorrect"))
A29: =IF(B29="","",COUNTA($B$2:B29)) -> 28 | B29: p.48 Q3 | C29: Verbal | D29: Reading Comprehension | E29: Carried Over (Prior Edition) | F29: Medium | H29: Science | I29: Short Reading | J29: Discrepancy | L29: B | N29: =IF(OR(L29="",M29=""),"",IF(UPPER(SUBSTITUTE(L29," ",""))=UPPER(SUBSTITUTE(M29," ","")),"Correct","Incorrect"))
A30: =IF(B30="","",COUNTA($B$2:B30)) -> 29 | B30: p.49 Q4 | C30: Verbal | D30: Reading Comprehension | E30: Carried Over (Prior Edition) | F30: Medium | H30: History | I30: Medium Reading | J30: EXCEPT | L30: D | N30: =IF(OR(L30="",M30=""),"",IF(UPPER(SUBSTITUTE(L30," ",""))=UPPER(SUBSTITUTE(M30," ","")),"Correct","Incorrect"))
A31: =IF(B31="","",COUNTA($B$2:B31)) -> 30 | B31: p.49 Q5 | C31: Verbal | D31: Reading Comprehension | E31: Carried Over (Prior Edition) | F31: Medium | H31: History | I31: Medium Reading | J31: Main Idea | L31: E | N31: =IF(OR(L31="",M31=""),"",IF(UPPER(SUBSTITUTE(L31," ",""))=UPPER(SUBSTITUTE(M31," ","")),"Correct","Incorrect"))
A32: =IF(B32="","",COUNTA($B$2:B32)) -> 31 | B32: p.50 Q6 | C32: Verbal | D32: Reading Comprehension | E32: Carried Over (Prior Edition) | F32: Medium | H32: Science | I32: Long Reading | J32: Text Portions Role | L32: C | N32: =IF(OR(L32="",M32=""),"",IF(UPPER(SUBSTITUTE(L32," ",""))=UPPER(SUBSTITUTE(M32," ","")),"Correct","Incorrect"))
A33: =IF(B33="","",COUNTA($B$2:B33)) -> 32 | B33: p.51 Q7 | C33: Verbal | D33: Reading Comprehension | E33: Carried Over (Prior Edition) | F33: Medium | H33: Science | I33: Long Reading | J33: Inference | L33: A | N33: =IF(OR(L33="",M33=""),"",IF(UPPER(SUBSTITUTE(L33," ",""))=UPPER(SUBSTITUTE(M33," ","")),"Correct","Incorrect"))
A34: =IF(B34="","",COUNTA($B$2:B34)) -> 33 | B34: p.51 Q8 | C34: Verbal | D34: Reading Comprehension | E34: Carried Over (Prior Edition) | F34: Medium | H34: Science | I34: Long Reading | J34: Main Idea | L34: A | N34: =IF(OR(L34="",M34=""),"",IF(UPPER(SUBSTITUTE(L34," ",""))=UPPER(SUBSTITUTE(M34," ","")),"Correct","Incorrect"))
A35: =IF(B35="","",COUNTA($B$2:B35)) -> 34 | B35: p.51 Q9 | C35: Verbal | D35: Reading Comprehension | E35: Carried Over (Prior Edition) | F35: Medium | H35: Science | I35: Long Reading | J35: EXCEPT | L35: E | N35: =IF(OR(L35="",M35=""),"",IF(UPPER(SUBSTITUTE(L35," ",""))=UPPER(SUBSTITUTE(M35," ","")),"Correct","Incorrect"))
A36: =IF(B36="","",COUNTA($B$2:B36)) -> 35 | B36: p.52 Q1 | C36: Verbal | D36: Text Completion | E36: Carried Over (Prior Edition) | F36: Hard | G36: Punctuation | L36: D | N36: =IF(OR(L36="",M36=""),"",IF(UPPER(SUBSTITUTE(L36," ",""))=UPPER(SUBSTITUTE(M36," ","")),"Correct","Incorrect"))
A37: =IF(B37="","",COUNTA($B$2:B37)) -> 36 | B37: p.52 Q2 | C37: Verbal | D37: Text Completion | E37: Carried Over (Prior Edition) | F37: Hard | G37: Subordinating Conjunction | L37: B, F | N37: =IF(OR(L37="",M37=""),"",IF(UPPER(SUBSTITUTE(L37," ",""))=UPPER(SUBSTITUTE(M37," ","")),"Correct","Incorrect"))
A38: =IF(B38="","",COUNTA($B$2:B38)) -> 37 | B38: p.52 Q3 | C38: Verbal | D38: Text Completion | E38: Carried Over (Prior Edition) | F38: Hard | G38: Definitional sentence | L38: A, F | N38: =IF(OR(L38="",M38=""),"",IF(UPPER(SUBSTITUTE(L38," ",""))=UPPER(SUBSTITUTE(M38," ","")),"Correct","Incorrect"))
A39: =IF(B39="","",COUNTA($B$2:B39)) -> 38 | B39: p.53 Q4 | C39: Verbal | D39: Text Completion | E39: Carried Over (Prior Edition) | F39: Hard | G39: Contrast-shift | L39: C, D, H | N39: =IF(OR(L39="",M39=""),"",IF(UPPER(SUBSTITUTE(L39," ",""))=UPPER(SUBSTITUTE(M39," ","")),"Correct","Incorrect"))
A40: =IF(B40="","",COUNTA($B$2:B40)) -> 39 | B40: p.53 Q5 | C40: Verbal | D40: Text Completion | E40: Carried Over (Prior Edition) | F40: Hard | G40: Contrast-shift | L40: B, D, I | N40: =IF(OR(L40="",M40=""),"",IF(UPPER(SUBSTITUTE(L40," ",""))=UPPER(SUBSTITUTE(M40," ","")),"Correct","Incorrect"))
A41: =IF(B41="","",COUNTA($B$2:B41)) -> 40 | B41: p.53 Q6 | C41: Verbal | D41: Text Completion | E41: Carried Over (Prior Edition) | F41: Hard | G41: Contrast-shift | L41: B, E, G | N41: =IF(OR(L41="",M41=""),"",IF(UPPER(SUBSTITUTE(L41," ",""))=UPPER(SUBSTITUTE(M41," ","")),"Correct","Incorrect"))
A42: =IF(B42="","",COUNTA($B$2:B42)) -> 41 | B42: p.54 Q7 | C42: Verbal | D42: Sentence Equivalence | E42: Carried Over (Prior Edition) | F42: Hard | G42: Definitional sentence | L42: C, D | N42: =IF(OR(L42="",M42=""),"",IF(UPPER(SUBSTITUTE(L42," ",""))=UPPER(SUBSTITUTE(M42," ","")),"Correct","Incorrect"))
A43: =IF(B43="","",COUNTA($B$2:B43)) -> 42 | B43: p.54 Q8 | C43: Verbal | D43: Sentence Equivalence | E43: Carried Over (Prior Edition) | F43: Hard | G43: Contrast-shift | L43: A, D | N43: =IF(OR(L43="",M43=""),"",IF(UPPER(SUBSTITUTE(L43," ",""))=UPPER(SUBSTITUTE(M43," ","")),"Correct","Incorrect"))
A44: =IF(B44="","",COUNTA($B$2:B44)) -> 43 | B44: p.54 Q9 | C44: Verbal | D44: Sentence Equivalence | E44: Carried Over (Prior Edition) | F44: Hard | G44: Definitional sentence | L44: E, F | N44: =IF(OR(L44="",M44=""),"",IF(UPPER(SUBSTITUTE(L44," ",""))=UPPER(SUBSTITUTE(M44," ","")),"Correct","Incorrect"))
A45: =IF(B45="","",COUNTA($B$2:B45)) -> 44 | B45: p.55 Q1 | C45: Verbal | D45: Reading Comprehension | E45: Carried Over (Prior Edition) | F45: Hard | H45: Social Science | I45: Short Reading | J45: Discrepancy | L45: E | N45: =IF(OR(L45="",M45=""),"",IF(UPPER(SUBSTITUTE(L45," ",""))=UPPER(SUBSTITUTE(M45," ","")),"Correct","Incorrect"))
A46: =IF(B46="","",COUNTA($B$2:B46)) -> 45 | B46: p.55 Q2 | C46: Verbal | D46: Reading Comprehension | E46: Carried Over (Prior Edition) | F46: Hard | H46: Social Science | I46: Short Reading | J46: Inference | L46: A | N46: =IF(OR(L46="",M46=""),"",IF(UPPER(SUBSTITUTE(L46," ",""))=UPPER(SUBSTITUTE(M46," ","")),"Correct","Incorrect"))
A47: =IF(B47="","",COUNTA($B$2:B47)) -> 46 | B47: p.56 Q3 | C47: Verbal | D47: Reading Comprehension | E47: Carried Over (Prior Edition) | F47: Hard | H47: Science | I47: Medium Reading | J47: Inference | L47: A, B | N47: =IF(OR(L47="",M47=""),"",IF(UPPER(SUBSTITUTE(L47," ",""))=UPPER(SUBSTITUTE(M47," ","")),"Correct","Incorrect"))
A48: =IF(B48="","",COUNTA($B$2:B48)) -> 47 | B48: p.56 Q4 | C48: Verbal | D48: Reading Comprehension | E48: Carried Over (Prior Edition) | F48: Hard | H48: Science | I48: Medium Reading | J48: Inference | L48: A, B, C | N48: =IF(OR(L48="",M48=""),"",IF(UPPER(SUBSTITUTE(L48," ",""))=UPPER(SUBSTITUTE(M48," ","")),"Correct","Incorrect"))
A49: =IF(B49="","",COUNTA($B$2:B49)) -> 48 | B49: p.57 Q5 | C49: Verbal | D49: Reading Comprehension | E49: Carried Over (Prior Edition) | F49: Hard | H49: Humanities | I49: Long Reading | J49: Inference | L49: D | N49: =IF(OR(L49="",M49=""),"",IF(UPPER(SUBSTITUTE(L49," ",""))=UPPER(SUBSTITUTE(M49," ","")),"Correct","Incorrect"))
A50: =IF(B50="","",COUNTA($B$2:B50)) -> 49 | B50: p.57 Q6 | C50: Verbal | D50: Reading Comprehension | E50: Carried Over (Prior Edition) | F50: Hard | H50: Humanities | I50: Long Reading | J50: Inference | L50: B | N50: =IF(OR(L50="",M50=""),"",IF(UPPER(SUBSTITUTE(L50," ",""))=UPPER(SUBSTITUTE(M50," ","")),"Correct","Incorrect"))
A51: =IF(B51="","",COUNTA($B$2:B51)) -> 50 | B51: p.57 Q7 | C51: Verbal | D51: Reading Comprehension | E51: Carried Over (Prior Edition) | F51: Hard | H51: Humanities | I51: Long Reading | J51: Assumption | L51: B | N51: =IF(OR(L51="",M51=""),"",IF(UPPER(SUBSTITUTE(L51," ",""))=UPPER(SUBSTITUTE(M51," ","")),"Correct","Incorrect"))
A52: =IF(B52="","",COUNTA($B$2:B52)) -> 51 | B52: p.58 Q8 | C52: Verbal | D52: Reading Comprehension | E52: Carried Over (Prior Edition) | F52: Hard | H52: Humanities | I52: Long Reading | J52: Inference | L52: B | N52: =IF(OR(L52="",M52=""),"",IF(UPPER(SUBSTITUTE(L52," ",""))=UPPER(SUBSTITUTE(M52," ","")),"Correct","Incorrect"))
A53: =IF(B53="","",COUNTA($B$2:B53)) -> 52 | B53: p.92 Q1 | C53: Verbal | D53: Text Completion | E53: New (Mixed Practice Set) | F53: Medium | G53: Definitional sentence | L53: B | N53: =IF(OR(L53="",M53=""),"",IF(UPPER(SUBSTITUTE(L53," ",""))=UPPER(SUBSTITUTE(M53," ","")),"Correct","Incorrect")) | P53: P+ 46 (ETS % correct)
A54: =IF(B54="","",COUNTA($B$2:B54)) -> 53 | B54: p.92 Q2 | C54: Verbal | D54: Text Completion | E54: New (Mixed Practice Set) | F54: Medium | G54: Contrast-shift | L54: E | N54: =IF(OR(L54="",M54=""),"",IF(UPPER(SUBSTITUTE(L54," ",""))=UPPER(SUBSTITUTE(M54," ","")),"Correct","Incorrect")) | P54: P+ 45 (ETS % correct)
A55: =IF(B55="","",COUNTA($B$2:B55)) -> 54 | B55: p.92 Q3 | C55: Verbal | D55: Text Completion | E55: New (Mixed Practice Set) | F55: Easy | G55: Definitional sentence | L55: B, F | N55: =IF(OR(L55="",M55=""),"",IF(UPPER(SUBSTITUTE(L55," ",""))=UPPER(SUBSTITUTE(M55," ","")),"Correct","Incorrect")) | P55: P+ 56 (ETS % correct)
A56: =IF(B56="","",COUNTA($B$2:B56)) -> 55 | B56: p.93 Q4 | C56: Verbal | D56: Text Completion | E56: New (Mixed Practice Set) | F56: Hard | G56: Contrast-shift | L56: A, E, I | N56: =IF(OR(L56="",M56=""),"",IF(UPPER(SUBSTITUTE(L56," ",""))=UPPER(SUBSTITUTE(M56," ","")),"Correct","Incorrect")) | P56: P+ 25 (ETS % correct)
A57: =IF(B57="","",COUNTA($B$2:B57)) -> 56 | B57: p.93 Q5 | C57: Verbal | D57: Text Completion | E57: New (Mixed Practice Set) | F57: Hard | G57: Parallel Structure | L57: C, F, H | N57: =IF(OR(L57="",M57=""),"",IF(UPPER(SUBSTITUTE(L57," ",""))=UPPER(SUBSTITUTE(M57," ","")),"Correct","Incorrect")) | P57: P+ 15 (ETS % correct)
A58: =IF(B58="","",COUNTA($B$2:B58)) -> 57 | B58: p.94 Q6 | C58: Verbal | D58: Reading Comprehension | E58: New (Mixed Practice Set) | F58: Easy | H58: Science | I58: Medium Reading | J58: Inference | L58: A | N58: =IF(OR(L58="",M58=""),"",IF(UPPER(SUBSTITUTE(L58," ",""))=UPPER(SUBSTITUTE(M58," ","")),"Correct","Incorrect")) | P58: P+ 57 (ETS % correct)
A59: =IF(B59="","",COUNTA($B$2:B59)) -> 58 | B59: p.94 Q7 | C59: Verbal | D59: Reading Comprehension | E59: New (Mixed Practice Set) | F59: Medium | H59: Science | I59: Medium Reading | J59: Inference | L59: A, B | N59: =IF(OR(L59="",M59=""),"",IF(UPPER(SUBSTITUTE(L59," ",""))=UPPER(SUBSTITUTE(M59," ","")),"Correct","Incorrect")) | P59: P+ 48 (ETS % correct)
A60: =IF(B60="","",COUNTA($B$2:B60)) -> 59 | B60: p.95 Q8 | C60: Verbal | D60: Reading Comprehension | E60: New (Mixed Practice Set) | F60: Easy | H60: History | I60: Long Reading | J60: Main Idea | L60: C | N60: =IF(OR(L60="",M60=""),"",IF(UPPER(SUBSTITUTE(L60," ",""))=UPPER(SUBSTITUTE(M60," ","")),"Correct","Incorrect")) | P60: P+ 65 (ETS % correct)
A61: =IF(B61="","",COUNTA($B$2:B61)) -> 60 | B61: p.95 Q9 | C61: Verbal | D61: Reading Comprehension | E61: New (Mixed Practice Set) | F61: Easy | H61: History | I61: Long Reading | J61: Inference | L61: C | N61: =IF(OR(L61="",M61=""),"",IF(UPPER(SUBSTITUTE(L61," ",""))=UPPER(SUBSTITUTE(M61," ","")),"Correct","Incorrect")) | P61: P+ 62 (ETS % correct)
A62: =IF(B62="","",COUNTA($B$2:B62)) -> 61 | B62: p.95 Q10 | C62: Verbal | D62: Reading Comprehension | E62: New (Mixed Practice Set) | F62: Medium | H62: History | I62: Long Reading | J62: Text Portions Role | L62: B | N62: =IF(OR(L62="",M62=""),"",IF(UPPER(SUBSTITUTE(L62," ",""))=UPPER(SUBSTITUTE(M62," ","")),"Correct","Incorrect")) | P62: P+ 42 (ETS % correct)
A63: =IF(B63="","",COUNTA($B$2:B63)) -> 62 | B63: p.96 Q11 | C63: Verbal | D63: Reading Comprehension | E63: New (Mixed Practice Set) | F63: Medium | H63: History | I63: Long Reading | J63: Inference | L63: D | N63: =IF(OR(L63="",M63=""),"",IF(UPPER(SUBSTITUTE(L63," ",""))=UPPER(SUBSTITUTE(M63," ","")),"Correct","Incorrect")) | P63: P+ 39 (ETS % correct)
A64: =IF(B64="","",COUNTA($B$2:B64)) -> 63 | B64: p.96 Q12 | C64: Verbal | D64: Sentence Equivalence | E64: New (Mixed Practice Set) | F64: Easy | G64: Definitional sentence | L64: B, D | N64: =IF(OR(L64="",M64=""),"",IF(UPPER(SUBSTITUTE(L64," ",""))=UPPER(SUBSTITUTE(M64," ","")),"Correct","Incorrect")) | P64: P+ 57 (ETS % correct)
A65: =IF(B65="","",COUNTA($B$2:B65)) -> 64 | B65: p.96 Q13 | C65: Verbal | D65: Sentence Equivalence | E65: New (Mixed Practice Set) | F65: Easy | G65: Definitional sentence | L65: A, D | N65: =IF(OR(L65="",M65=""),"",IF(UPPER(SUBSTITUTE(L65," ",""))=UPPER(SUBSTITUTE(M65," ","")),"Correct","Incorrect")) | P65: P+ 61 (ETS % correct)
A66: =IF(B66="","",COUNTA($B$2:B66)) -> 65 | B66: p.96 Q14 | C66: Verbal | D66: Sentence Equivalence | E66: New (Mixed Practice Set) | F66: Easy | G66: Definitional sentence | L66: A, B | N66: =IF(OR(L66="",M66=""),"",IF(UPPER(SUBSTITUTE(L66," ",""))=UPPER(SUBSTITUTE(M66," ","")),"Correct","Incorrect")) | P66: P+ 67 (ETS % correct)
A67: =IF(B67="","",COUNTA($B$2:B67)) -> 66 | B67: p.97 Q15 | C67: Verbal | D67: Reading Comprehension | E67: New (Mixed Practice Set) | F67: Medium | H67: History | I67: Short Reading | J67: Weaken | L67: E | N67: =IF(OR(L67="",M67=""),"",IF(UPPER(SUBSTITUTE(L67," ",""))=UPPER(SUBSTITUTE(M67," ","")),"Correct","Incorrect")) | P67: P+ 54 (ETS % correct)
A68: =IF(B68="","",COUNTA($B$2:B68)) -> 67 | B68: p.109 Q1 | C68: Verbal | D68: Text Completion | E68: New (Mixed Practice Set) | F68: Easy | G68: Definitional sentence | L68: C | N68: =IF(OR(L68="",M68=""),"",IF(UPPER(SUBSTITUTE(L68," ",""))=UPPER(SUBSTITUTE(M68," ","")),"Correct","Incorrect")) | P68: P+ 66 (ETS % correct)
A69: =IF(B69="","",COUNTA($B$2:B69)) -> 68 | B69: p.109 Q2 | C69: Verbal | D69: Text Completion | E69: New (Mixed Practice Set) | F69: Easy | G69: Definitional sentence | L69: D | N69: =IF(OR(L69="",M69=""),"",IF(UPPER(SUBSTITUTE(L69," ",""))=UPPER(SUBSTITUTE(M69," ","")),"Correct","Incorrect")) | P69: P+ 60 (ETS % correct)
A70: =IF(B70="","",COUNTA($B$2:B70)) -> 69 | B70: p.109 Q3 | C70: Verbal | D70: Text Completion | E70: New (Mixed Practice Set) | F70: Medium | G70: Definitional sentence | L70: C, D | N70: =IF(OR(L70="",M70=""),"",IF(UPPER(SUBSTITUTE(L70," ",""))=UPPER(SUBSTITUTE(M70," ","")),"Correct","Incorrect")) | P70: P+ 41 (ETS % correct)
A71: =IF(B71="","",COUNTA($B$2:B71)) -> 70 | B71: p.109 Q4 | C71: Verbal | D71: Text Completion | E71: New (Mixed Practice Set) | F71: Easy | G71: Contrast-shift | L71: B, D | N71: =IF(OR(L71="",M71=""),"",IF(UPPER(SUBSTITUTE(L71," ",""))=UPPER(SUBSTITUTE(M71," ","")),"Correct","Incorrect")) | P71: P+ 61 (ETS % correct)
A72: =IF(B72="","",COUNTA($B$2:B72)) -> 71 | B72: p.110 Q5 | C72: Verbal | D72: Text Completion | E72: New (Mixed Practice Set) | F72: Hard | G72: Contrast-shift | L72: C, D, G | N72: =IF(OR(L72="",M72=""),"",IF(UPPER(SUBSTITUTE(L72," ",""))=UPPER(SUBSTITUTE(M72," ","")),"Correct","Incorrect")) | P72: P+ 22 (ETS % correct)
A73: =IF(B73="","",COUNTA($B$2:B73)) -> 72 | B73: p.110 Q6 | C73: Verbal | D73: Reading Comprehension | E73: New (Mixed Practice Set) | F73: Easy | H73: Social Science | I73: Medium Reading | J73: Text Portions Role | L73: C | N73: =IF(OR(L73="",M73=""),"",IF(UPPER(SUBSTITUTE(L73," ",""))=UPPER(SUBSTITUTE(M73," ","")),"Correct","Incorrect")) | P73: P+ 77 (ETS % correct)
A74: =IF(B74="","",COUNTA($B$2:B74)) -> 73 | B74: p.110 Q7 | C74: Verbal | D74: Reading Comprehension | E74: New (Mixed Practice Set) | F74: Easy | H74: Social Science | I74: Medium Reading | J74: Word Meaning | L74: D | N74: =IF(OR(L74="",M74=""),"",IF(UPPER(SUBSTITUTE(L74," ",""))=UPPER(SUBSTITUTE(M74," ","")),"Correct","Incorrect")) | P74: P+ 68 (ETS % correct)
A75: =IF(B75="","",COUNTA($B$2:B75)) -> 74 | B75: p.111 Q8 | C75: Verbal | D75: Reading Comprehension | E75: New (Mixed Practice Set) | F75: Medium | H75: Science | I75: Medium Reading | J75: Inference | L75: E | N75: =IF(OR(L75="",M75=""),"",IF(UPPER(SUBSTITUTE(L75," ",""))=UPPER(SUBSTITUTE(M75," ","")),"Correct","Incorrect")) | P75: P+ 54 (ETS % correct)
A76: =IF(B76="","",COUNTA($B$2:B76)) -> 75 | B76: p.111 Q9 | C76: Verbal | D76: Reading Comprehension | E76: New (Mixed Practice Set) | F76: Medium | H76: Science | I76: Medium Reading | J76: Main Idea | L76: C | N76: =IF(OR(L76="",M76=""),"",IF(UPPER(SUBSTITUTE(L76," ",""))=UPPER(SUBSTITUTE(M76," ","")),"Correct","Incorrect")) | P76: P+ 51 (ETS % correct)
A77: =IF(B77="","",COUNTA($B$2:B77)) -> 76 | B77: p.111 Q10 | C77: Verbal | D77: Sentence Equivalence | E77: New (Mixed Practice Set) | F77: Medium | G77: Definitional sentence | L77: C, D | N77: =IF(OR(L77="",M77=""),"",IF(UPPER(SUBSTITUTE(L77," ",""))=UPPER(SUBSTITUTE(M77," ","")),"Correct","Incorrect")) | P77: P+ 48 (ETS % correct)
A78: =IF(B78="","",COUNTA($B$2:B78)) -> 77 | B78: p.112 Q11 | C78: Verbal | D78: Sentence Equivalence | E78: New (Mixed Practice Set) | F78: Medium | G78: Contrast-shift | L78: A, E | N78: =IF(OR(L78="",M78=""),"",IF(UPPER(SUBSTITUTE(L78," ",""))=UPPER(SUBSTITUTE(M78," ","")),"Correct","Incorrect")) | P78: P+ 46 (ETS % correct)
A79: =IF(B79="","",COUNTA($B$2:B79)) -> 78 | B79: p.112 Q12 | C79: Verbal | D79: Sentence Equivalence | E79: New (Mixed Practice Set) | F79: Easy | G79: Contrast-shift | L79: D, F | N79: =IF(OR(L79="",M79=""),"",IF(UPPER(SUBSTITUTE(L79," ",""))=UPPER(SUBSTITUTE(M79," ","")),"Correct","Incorrect")) | P79: P+ 62 (ETS % correct)
A80: =IF(B80="","",COUNTA($B$2:B80)) -> 79 | B80: p.112 Q13 | C80: Verbal | D80: Sentence Equivalence | E80: New (Mixed Practice Set) | F80: Easy | G80: Definitional sentence | L80: A, F | N80: =IF(OR(L80="",M80=""),"",IF(UPPER(SUBSTITUTE(L80," ",""))=UPPER(SUBSTITUTE(M80," ","")),"Correct","Incorrect")) | P80: P+ 56 (ETS % correct)
A81: =IF(B81="","",COUNTA($B$2:B81)) -> 80 | B81: p.113 Q14 | C81: Verbal | D81: Reading Comprehension | E81: New (Mixed Practice Set) | F81: Easy | H81: History | I81: Short Reading | J81: Complete the passage | L81: D | N81: =IF(OR(L81="",M81=""),"",IF(UPPER(SUBSTITUTE(L81," ",""))=UPPER(SUBSTITUTE(M81," ","")),"Correct","Incorrect")) | P81: P+ 62 (ETS % correct)
A82: =IF(B82="","",COUNTA($B$2:B82)) -> 81 | B82: p.113 Q15 | C82: Verbal | D82: Reading Comprehension | E82: New (Mixed Practice Set) | F82: Medium | H82: Science | I82: Medium Reading | J82: Inference | L82: C | N82: =IF(OR(L82="",M82=""),"",IF(UPPER(SUBSTITUTE(L82," ",""))=UPPER(SUBSTITUTE(M82," ","")),"Correct","Incorrect")) | P82: P+ 37 (ETS % correct)
A83: =IF(B83="","",COUNTA($B$2:B83)) -> 82 | B83: p.125 Q1 | C83: Verbal | D83: Text Completion | E83: New (Mixed Practice Set) | F83: Easy | G83: Definitional sentence | L83: C | N83: =IF(OR(L83="",M83=""),"",IF(UPPER(SUBSTITUTE(L83," ",""))=UPPER(SUBSTITUTE(M83," ","")),"Correct","Incorrect")) | P83: P+ 64 (ETS % correct)
A84: =IF(B84="","",COUNTA($B$2:B84)) -> 83 | B84: p.125 Q2 | C84: Verbal | D84: Text Completion | E84: New (Mixed Practice Set) | F84: Easy | G84: Contrast-shift | L84: E | N84: =IF(OR(L84="",M84=""),"",IF(UPPER(SUBSTITUTE(L84," ",""))=UPPER(SUBSTITUTE(M84," ","")),"Correct","Incorrect")) | P84: P+ 65 (ETS % correct)
A85: =IF(B85="","",COUNTA($B$2:B85)) -> 84 | B85: p.125 Q3 | C85: Verbal | D85: Text Completion | E85: New (Mixed Practice Set) | F85: Easy | G85: Definitional sentence | L85: A, D | N85: =IF(OR(L85="",M85=""),"",IF(UPPER(SUBSTITUTE(L85," ",""))=UPPER(SUBSTITUTE(M85," ","")),"Correct","Incorrect")) | P85: P+ 73 (ETS % correct)
A86: =IF(B86="","",COUNTA($B$2:B86)) -> 85 | B86: p.125 Q4 | C86: Verbal | D86: Text Completion | E86: New (Mixed Practice Set) | F86: Medium | G86: Contrast-shift | L86: C, E | N86: =IF(OR(L86="",M86=""),"",IF(UPPER(SUBSTITUTE(L86," ",""))=UPPER(SUBSTITUTE(M86," ","")),"Correct","Incorrect")) | P86: P+ 50 (ETS % correct)
A87: =IF(B87="","",COUNTA($B$2:B87)) -> 86 | B87: p.126 Q5 | C87: Verbal | D87: Text Completion | E87: New (Mixed Practice Set) | F87: Hard | G87: Contrast-shift | L87: C, D, H | N87: =IF(OR(L87="",M87=""),"",IF(UPPER(SUBSTITUTE(L87," ",""))=UPPER(SUBSTITUTE(M87," ","")),"Correct","Incorrect")) | P87: P+ 25 (ETS % correct)
A88: =IF(B88="","",COUNTA($B$2:B88)) -> 87 | B88: p.126 Q6 | C88: Verbal | D88: Reading Comprehension | E88: New (Mixed Practice Set) | F88: Easy | H88: Science | I88: Medium Reading | J88: Text Portions Role | L88: E | N88: =IF(OR(L88="",M88=""),"",IF(UPPER(SUBSTITUTE(L88," ",""))=UPPER(SUBSTITUTE(M88," ","")),"Correct","Incorrect")) | P88: P+ 67 (ETS % correct)
A89: =IF(B89="","",COUNTA($B$2:B89)) -> 88 | B89: p.127 Q7 | C89: Verbal | D89: Reading Comprehension | E89: New (Mixed Practice Set) | F89: Medium | H89: Science | I89: Medium Reading | J89: Inference | L89: A, C | N89: =IF(OR(L89="",M89=""),"",IF(UPPER(SUBSTITUTE(L89," ",""))=UPPER(SUBSTITUTE(M89," ","")),"Correct","Incorrect")) | P89: P+ 49 (ETS % correct)
A90: =IF(B90="","",COUNTA($B$2:B90)) -> 89 | B90: p.127 Q8 | C90: Verbal | D90: Reading Comprehension | E90: New (Mixed Practice Set) | F90: Medium | H90: Passage Paragraph Argument | I90: Short Reading | J90: Text Portions Role | L90: B | N90: =IF(OR(L90="",M90=""),"",IF(UPPER(SUBSTITUTE(L90," ",""))=UPPER(SUBSTITUTE(M90," ","")),"Correct","Incorrect")) | P90: P+ 36 (ETS % correct)
A91: =IF(B91="","",COUNTA($B$2:B91)) -> 90 | B91: p.128 Q9 | C91: Verbal | D91: Reading Comprehension | E91: New (Mixed Practice Set) | F91: Medium | H91: Humanities | I91: Long Reading | J91: Main Idea | L91: A | N91: =IF(OR(L91="",M91=""),"",IF(UPPER(SUBSTITUTE(L91," ",""))=UPPER(SUBSTITUTE(M91," ","")),"Correct","Incorrect")) | P91: P+ 39 (ETS % correct)
A92: =IF(B92="","",COUNTA($B$2:B92)) -> 91 | B92: p.128 Q10 | C92: Verbal | D92: Reading Comprehension | E92: New (Mixed Practice Set) | F92: Easy | H92: Humanities | I92: Long Reading | J92: Inference | L92: E | N92: =IF(OR(L92="",M92=""),"",IF(UPPER(SUBSTITUTE(L92," ",""))=UPPER(SUBSTITUTE(M92," ","")),"Correct","Incorrect")) | P92: P+ 70 (ETS % correct)
A93: =IF(B93="","",COUNTA($B$2:B93)) -> 92 | B93: p.129 Q11 | C93: Verbal | D93: Reading Comprehension | E93: New (Mixed Practice Set) | F93: Easy | H93: Humanities | I93: Long Reading | J93: Weaken | L93: D | N93: =IF(OR(L93="",M93=""),"",IF(UPPER(SUBSTITUTE(L93," ",""))=UPPER(SUBSTITUTE(M93," ","")),"Correct","Incorrect")) | P93: P+ 57 (ETS % correct)
A94: =IF(B94="","",COUNTA($B$2:B94)) -> 93 | B94: p.129 Q12 | C94: Verbal | D94: Sentence Equivalence | E94: New (Mixed Practice Set) | F94: Easy | G94: Contrast-shift | L94: D, F | N94: =IF(OR(L94="",M94=""),"",IF(UPPER(SUBSTITUTE(L94," ",""))=UPPER(SUBSTITUTE(M94," ","")),"Correct","Incorrect")) | P94: P+ 72 (ETS % correct)
A95: =IF(B95="","",COUNTA($B$2:B95)) -> 94 | B95: p.129 Q13 | C95: Verbal | D95: Sentence Equivalence | E95: New (Mixed Practice Set) | F95: Medium | G95: Definitional sentence | L95: A, B | N95: =IF(OR(L95="",M95=""),"",IF(UPPER(SUBSTITUTE(L95," ",""))=UPPER(SUBSTITUTE(M95," ","")),"Correct","Incorrect")) | P95: P+ 52 (ETS % correct)
A96: =IF(B96="","",COUNTA($B$2:B96)) -> 95 | B96: p.130 Q14 | C96: Verbal | D96: Sentence Equivalence | E96: New (Mixed Practice Set) | F96: Medium | G96: Subordinating Conjunction | L96: B, F | N96: =IF(OR(L96="",M96=""),"",IF(UPPER(SUBSTITUTE(L96," ",""))=UPPER(SUBSTITUTE(M96," ","")),"Correct","Incorrect")) | P96: P+ 42 (ETS % correct)
A97: =IF(B97="","",COUNTA($B$2:B97)) -> 96 | B97: p.130 Q15 | C97: Verbal | D97: Reading Comprehension | E97: New (Mixed Practice Set) | F97: Medium | H97: Passage Paragraph Argument | I97: Short Reading | J97: Weaken | L97: E | N97: =IF(OR(L97="",M97=""),"",IF(UPPER(SUBSTITUTE(L97," ",""))=UPPER(SUBSTITUTE(M97," ","")),"Correct","Incorrect")) | P97: P+ 49 (ETS % correct)
A98: =IF(B98="","",COUNTA($B$2:B98)) -> 97 | B98: p.143 Q1 | C98: Verbal | D98: Text Completion | E98: New (Mixed Practice Set) | F98: Medium | G98: Punctuation | L98: B | N98: =IF(OR(L98="",M98=""),"",IF(UPPER(SUBSTITUTE(L98," ",""))=UPPER(SUBSTITUTE(M98," ","")),"Correct","Incorrect")) | P98: P+ 46 (ETS % correct)
A99: =IF(B99="","",COUNTA($B$2:B99)) -> 98 | B99: p.143 Q2 | C99: Verbal | D99: Text Completion | E99: New (Mixed Practice Set) | F99: Medium | G99: Definitional sentence | L99: C | N99: =IF(OR(L99="",M99=""),"",IF(UPPER(SUBSTITUTE(L99," ",""))=UPPER(SUBSTITUTE(M99," ","")),"Correct","Incorrect")) | P99: P+ 50 (ETS % correct)
A100: =IF(B100="","",COUNTA($B$2:B100)) -> 99 | B100: p.143 Q3 | C100: Verbal | D100: Text Completion | E100: New (Mixed Practice Set) | F100: Medium | G100: Contrast-shift | L100: A, E | N100: =IF(OR(L100="",M100=""),"",IF(UPPER(SUBSTITUTE(L100," ",""))=UPPER(SUBSTITUTE(M100," ","")),"Correct","Incorrect")) | P100: P+ 54 (ETS % correct)
...

Sheet Analysis
A1: Analysis — Official Guide GRE 2024 Error Log
A2: Updates automatically as you log questions in the 'Error Log' tab.
A4: Overall by Section | G4: Overall Summary
A5: Category | B5: Attempted | C5: Correct | D5: Incorrect | E5: Accuracy % | G5: Total Logged | H5: =COUNTIF('Error Log'!$M$2:$M$392,"<>") -> 6
A6: Verbal | B6: =COUNTIFS('Error Log'!$C$2:$C$392,$A6,'Error Log'!$M$2:$M$392,"<>") -> 6 | C6: =COUNTIFS('Error Log'!$C$2:$C$392,$A6,'Error Log'!$N$2:$N$392,"Correct") -> 4 | D6: =COUNTIFS('Error Log'!$C$2:$C$392,$A6,'Error Log'!$N$2:$N$392,"Incorrect") -> 2 | E6: =IF(B6=0,"",C6/B6) -> 0.66666667 | G6: Total Correct | H6: =COUNTIF('Error Log'!$N$2:$N$392,"Correct") -> 4
A7: Quant | B7: =COUNTIFS('Error Log'!$C$2:$C$392,$A7,'Error Log'!$M$2:$M$392,"<>") -> 0 | C7: =COUNTIFS('Error Log'!$C$2:$C$392,$A7,'Error Log'!$N$2:$N$392,"Correct") -> 0 | D7: =COUNTIFS('Error Log'!$C$2:$C$392,$A7,'Error Log'!$N$2:$N$392,"Incorrect") -> 0 | E7: =IF(B7=0,"",C7/B7) | G7: Total Incorrect | H7: =COUNTIF('Error Log'!$N$2:$N$392,"Incorrect") -> 2
G8: Overall Accuracy | H8: =IF(H5=0,"",H6/H5) -> 0.66666667
A10: By Question Type
A11: Category | B11: Attempted | C11: Correct | D11: Incorrect | E11: Accuracy %
A12: Text Completion | B12: =COUNTIFS('Error Log'!$D$2:$D$392,$A12,'Error Log'!$M$2:$M$392,"<>") -> 3 | C12: =COUNTIFS('Error Log'!$D$2:$D$392,$A12,'Error Log'!$N$2:$N$392,"Correct") -> 2 | D12: =COUNTIFS('Error Log'!$D$2:$D$392,$A12,'Error Log'!$N$2:$N$392,"Incorrect") -> 1 | E12: =IF(B12=0,"",C12/B12) -> 0.66666667
A13: Sentence Equivalence | B13: =COUNTIFS('Error Log'!$D$2:$D$392,$A13,'Error Log'!$M$2:$M$392,"<>") -> 1 | C13: =COUNTIFS('Error Log'!$D$2:$D$392,$A13,'Error Log'!$N$2:$N$392,"Correct") -> 0 | D13: =COUNTIFS('Error Log'!$D$2:$D$392,$A13,'Error Log'!$N$2:$N$392,"Incorrect") -> 1 | E13: =IF(B13=0,"",C13/B13) -> 0
A14: Reading Comprehension | B14: =COUNTIFS('Error Log'!$D$2:$D$392,$A14,'Error Log'!$M$2:$M$392,"<>") -> 2 | C14: =COUNTIFS('Error Log'!$D$2:$D$392,$A14,'Error Log'!$N$2:$N$392,"Correct") -> 2 | D14: =COUNTIFS('Error Log'!$D$2:$D$392,$A14,'Error Log'!$N$2:$N$392,"Incorrect") -> 0 | E14: =IF(B14=0,"",C14/B14) -> 1
A15: Quant Comparison | B15: =COUNTIFS('Error Log'!$D$2:$D$392,$A15,'Error Log'!$M$2:$M$392,"<>") -> 0 | C15: =COUNTIFS('Error Log'!$D$2:$D$392,$A15,'Error Log'!$N$2:$N$392,"Correct") -> 0 | D15: =COUNTIFS('Error Log'!$D$2:$D$392,$A15,'Error Log'!$N$2:$N$392,"Incorrect") -> 0 | E15: =IF(B15=0,"",C15/B15)
A16: Problem Solving | B16: =COUNTIFS('Error Log'!$D$2:$D$392,$A16,'Error Log'!$M$2:$M$392,"<>") -> 0 | C16: =COUNTIFS('Error Log'!$D$2:$D$392,$A16,'Error Log'!$N$2:$N$392,"Correct") -> 0 | D16: =COUNTIFS('Error Log'!$D$2:$D$392,$A16,'Error Log'!$N$2:$N$392,"Incorrect") -> 0 | E16: =IF(B16=0,"",C16/B16)
A17: Data Interpretation | B17: =COUNTIFS('Error Log'!$D$2:$D$392,$A17,'Error Log'!$M$2:$M$392,"<>") -> 0 | C17: =COUNTIFS('Error Log'!$D$2:$D$392,$A17,'Error Log'!$N$2:$N$392,"Correct") -> 0 | D17: =COUNTIFS('Error Log'!$D$2:$D$392,$A17,'Error Log'!$N$2:$N$392,"Incorrect") -> 0 | E17: =IF(B17=0,"",C17/B17)
A18: Multi-Source Reasoning | B18: =COUNTIFS('Error Log'!$D$2:$D$392,$A18,'Error Log'!$M$2:$M$392,"<>") -> 0 | C18: =COUNTIFS('Error Log'!$D$2:$D$392,$A18,'Error Log'!$N$2:$N$392,"Correct") -> 0 | D18: =COUNTIFS('Error Log'!$D$2:$D$392,$A18,'Error Log'!$N$2:$N$392,"Incorrect") -> 0 | E18: =IF(B18=0,"",C18/B18)
A21: By Status
A22: Category | B22: Attempted | C22: Correct | D22: Incorrect | E22: Accuracy %
A23: New (Mixed Practice Set) | B23: =COUNTIFS('Error Log'!$E$2:$E$392,$A23,'Error Log'!$M$2:$M$392,"<>") -> 0 | C23: =COUNTIFS('Error Log'!$E$2:$E$392,$A23,'Error Log'!$N$2:$N$392,"Correct") -> 0 | D23: =COUNTIFS('Error Log'!$E$2:$E$392,$A23,'Error Log'!$N$2:$N$392,"Incorrect") -> 0 | E23: =IF(B23=0,"",C23/B23)
A24: Carried Over (Prior Edition) | B24: =COUNTIFS('Error Log'!$E$2:$E$392,$A24,'Error Log'!$M$2:$M$392,"<>") -> 6 | C24: =COUNTIFS('Error Log'!$E$2:$E$392,$A24,'Error Log'!$N$2:$N$392,"Correct") -> 4 | D24: =COUNTIFS('Error Log'!$E$2:$E$392,$A24,'Error Log'!$N$2:$N$392,"Incorrect") -> 2 | E24: =IF(B24=0,"",C24/B24) -> 0.66666667
A27: By Difficulty
A28: Category | B28: Attempted | C28: Correct | D28: Incorrect | E28: Accuracy %
A29: Easy | B29: =COUNTIFS('Error Log'!$F$2:$F$392,$A29,'Error Log'!$M$2:$M$392,"<>") -> 6 | C29: =COUNTIFS('Error Log'!$F$2:$F$392,$A29,'Error Log'!$N$2:$N$392,"Correct") -> 4 | D29: =COUNTIFS('Error Log'!$F$2:$F$392,$A29,'Error Log'!$N$2:$N$392,"Incorrect") -> 2 | E29: =IF(B29=0,"",C29/B29) -> 0.66666667
A30: Medium | B30: =COUNTIFS('Error Log'!$F$2:$F$392,$A30,'Error Log'!$M$2:$M$392,"<>") -> 0 | C30: =COUNTIFS('Error Log'!$F$2:$F$392,$A30,'Error Log'!$N$2:$N$392,"Correct") -> 0 | D30: =COUNTIFS('Error Log'!$F$2:$F$392,$A30,'Error Log'!$N$2:$N$392,"Incorrect") -> 0 | E30: =IF(B30=0,"",C30/B30)
A31: Hard | B31: =COUNTIFS('Error Log'!$F$2:$F$392,$A31,'Error Log'!$M$2:$M$392,"<>") -> 0 | C31: =COUNTIFS('Error Log'!$F$2:$F$392,$A31,'Error Log'!$N$2:$N$392,"Correct") -> 0 | D31: =COUNTIFS('Error Log'!$F$2:$F$392,$A31,'Error Log'!$N$2:$N$392,"Incorrect") -> 0 | E31: =IF(B31=0,"",C31/B31)
A34: Verbal — What It Tests (TC / SE)
A35: Category | B35: Attempted | C35: Correct | D35: Incorrect | E35: Accuracy %
A36: Definitional sentence | B36: =COUNTIFS('Error Log'!$G$2:$G$392,$A36,'Error Log'!$M$2:$M$392,"<>") -> 0 | C36: =COUNTIFS('Error Log'!$G$2:$G$392,$A36,'Error Log'!$N$2:$N$392,"Correct") -> 0 | D36: =COUNTIFS('Error Log'!$G$2:$G$392,$A36,'Error Log'!$N$2:$N$392,"Incorrect") -> 0 | E36: =IF(B36=0,"",C36/B36)
A37: Punctuation | B37: =COUNTIFS('Error Log'!$G$2:$G$392,$A37,'Error Log'!$M$2:$M$392,"<>") -> 0 | C37: =COUNTIFS('Error Log'!$G$2:$G$392,$A37,'Error Log'!$N$2:$N$392,"Correct") -> 0 | D37: =COUNTIFS('Error Log'!$G$2:$G$392,$A37,'Error Log'!$N$2:$N$392,"Incorrect") -> 0 | E37: =IF(B37=0,"",C37/B37)
A38: Contrast-shift | B38: =COUNTIFS('Error Log'!$G$2:$G$392,$A38,'Error Log'!$M$2:$M$392,"<>") -> 3 | C38: =COUNTIFS('Error Log'!$G$2:$G$392,$A38,'Error Log'!$N$2:$N$392,"Correct") -> 2 | D38: =COUNTIFS('Error Log'!$G$2:$G$392,$A38,'Error Log'!$N$2:$N$392,"Incorrect") -> 1 | E38: =IF(B38=0,"",C38/B38) -> 0.66666667
A39: Parallel Structure | B39: =COUNTIFS('Error Log'!$G$2:$G$392,$A39,'Error Log'!$M$2:$M$392,"<>") -> 0 | C39: =COUNTIFS('Error Log'!$G$2:$G$392,$A39,'Error Log'!$N$2:$N$392,"Correct") -> 0 | D39: =COUNTIFS('Error Log'!$G$2:$G$392,$A39,'Error Log'!$N$2:$N$392,"Incorrect") -> 0 | E39: =IF(B39=0,"",C39/B39)
A40: Conditional Sentence | B40: =COUNTIFS('Error Log'!$G$2:$G$392,$A40,'Error Log'!$M$2:$M$392,"<>") -> 0 | C40: =COUNTIFS('Error Log'!$G$2:$G$392,$A40,'Error Log'!$N$2:$N$392,"Correct") -> 0 | D40: =COUNTIFS('Error Log'!$G$2:$G$392,$A40,'Error Log'!$N$2:$N$392,"Incorrect") -> 0 | E40: =IF(B40=0,"",C40/B40)
A41: Subordinating Conjunction | B41: =COUNTIFS('Error Log'!$G$2:$G$392,$A41,'Error Log'!$M$2:$M$392,"<>") -> 1 | C41: =COUNTIFS('Error Log'!$G$2:$G$392,$A41,'Error Log'!$N$2:$N$392,"Correct") -> 0 | D41: =COUNTIFS('Error Log'!$G$2:$G$392,$A41,'Error Log'!$N$2:$N$392,"Incorrect") -> 1 | E41: =IF(B41=0,"",C41/B41) -> 0
A44: RC — Passage Domain
A45: Category | B45: Attempted | C45: Correct | D45: Incorrect | E45: Accuracy %
A46: Passage Paragraph Argument | B46: =COUNTIFS('Error Log'!$H$2:$H$392,$A46,'Error Log'!$M$2:$M$392,"<>") -> 0 | C46: =COUNTIFS('Error Log'!$H$2:$H$392,$A46,'Error Log'!$N$2:$N$392,"Correct") -> 0 | D46: =COUNTIFS('Error Log'!$H$2:$H$392,$A46,'Error Log'!$N$2:$N$392,"Incorrect") -> 0 | E46: =IF(B46=0,"",C46/B46)
A47: Business | B47: =COUNTIFS('Error Log'!$H$2:$H$392,$A47,'Error Log'!$M$2:$M$392,"<>") -> 0 | C47: =COUNTIFS('Error Log'!$H$2:$H$392,$A47,'Error Log'!$N$2:$N$392,"Correct") -> 0 | D47: =COUNTIFS('Error Log'!$H$2:$H$392,$A47,'Error Log'!$N$2:$N$392,"Incorrect") -> 0 | E47: =IF(B47=0,"",C47/B47)
A48: History | B48: =COUNTIFS('Error Log'!$H$2:$H$392,$A48,'Error Log'!$M$2:$M$392,"<>") -> 0 | C48: =COUNTIFS('Error Log'!$H$2:$H$392,$A48,'Error Log'!$N$2:$N$392,"Correct") -> 0 | D48: =COUNTIFS('Error Log'!$H$2:$H$392,$A48,'Error Log'!$N$2:$N$392,"Incorrect") -> 0 | E48: =IF(B48=0,"",C48/B48)
A49: Humanities | B49: =COUNTIFS('Error Log'!$H$2:$H$392,$A49,'Error Log'!$M$2:$M$392,"<>") -> 2 | C49: =COUNTIFS('Error Log'!$H$2:$H$392,$A49,'Error Log'!$N$2:$N$392,"Correct") -> 2 | D49: =COUNTIFS('Error Log'!$H$2:$H$392,$A49,'Error Log'!$N$2:$N$392,"Incorrect") -> 0 | E49: =IF(B49=0,"",C49/B49) -> 1
A50: Science | B50: =COUNTIFS('Error Log'!$H$2:$H$392,$A50,'Error Log'!$M$2:$M$392,"<>") -> 0 | C50: =COUNTIFS('Error Log'!$H$2:$H$392,$A50,'Error Log'!$N$2:$N$392,"Correct") -> 0 | D50: =COUNTIFS('Error Log'!$H$2:$H$392,$A50,'Error Log'!$N$2:$N$392,"Incorrect") -> 0 | E50: =IF(B50=0,"",C50/B50)
A51: Social Science | B51: =COUNTIFS('Error Log'!$H$2:$H$392,$A51,'Error Log'!$M$2:$M$392,"<>") -> 0 | C51: =COUNTIFS('Error Log'!$H$2:$H$392,$A51,'Error Log'!$N$2:$N$392,"Correct") -> 0 | D51: =COUNTIFS('Error Log'!$H$2:$H$392,$A51,'Error Log'!$N$2:$N$392,"Incorrect") -> 0 | E51: =IF(B51=0,"",C51/B51)
A54: RC — Passage Length
A55: Category | B55: Attempted | C55: Correct | D55: Incorrect | E55: Accuracy %
A56: Long Reading | B56: =COUNTIFS('Error Log'!$I$2:$I$392,$A56,'Error Log'!$M$2:$M$392,"<>") -> 0 | C56: =COUNTIFS('Error Log'!$I$2:$I$392,$A56,'Error Log'!$N$2:$N$392,"Correct") -> 0 | D56: =COUNTIFS('Error Log'!$I$2:$I$392,$A56,'Error Log'!$N$2:$N$392,"Incorrect") -> 0 | E56: =IF(B56=0,"",C56/B56)
A57: Medium Reading | B57: =COUNTIFS('Error Log'!$I$2:$I$392,$A57,'Error Log'!$M$2:$M$392,"<>") -> 2 | C57: =COUNTIFS('Error Log'!$I$2:$I$392,$A57,'Error Log'!$N$2:$N$392,"Correct") -> 2 | D57: =COUNTIFS('Error Log'!$I$2:$I$392,$A57,'Error Log'!$N$2:$N$392,"Incorrect") -> 0 | E57: =IF(B57=0,"",C57/B57) -> 1
A58: Short Reading | B58: =COUNTIFS('Error Log'!$I$2:$I$392,$A58,'Error Log'!$M$2:$M$392,"<>") -> 0 | C58: =COUNTIFS('Error Log'!$I$2:$I$392,$A58,'Error Log'!$N$2:$N$392,"Correct") -> 0 | D58: =COUNTIFS('Error Log'!$I$2:$I$392,$A58,'Error Log'!$N$2:$N$392,"Incorrect") -> 0 | E58: =IF(B58=0,"",C58/B58)
A61: RC — Question Type Tag
A62: Category | B62: Attempted | C62: Correct | D62: Incorrect | E62: Accuracy %
A63: Assumption | B63: =COUNTIFS('Error Log'!$J$2:$J$392,$A63,'Error Log'!$M$2:$M$392,"<>") -> 0 | C63: =COUNTIFS('Error Log'!$J$2:$J$392,$A63,'Error Log'!$N$2:$N$392,"Correct") -> 0 | D63: =COUNTIFS('Error Log'!$J$2:$J$392,$A63,'Error Log'!$N$2:$N$392,"Incorrect") -> 0 | E63: =IF(B63=0,"",C63/B63)
A64: Complete the passage | B64: =COUNTIFS('Error Log'!$J$2:$J$392,$A64,'Error Log'!$M$2:$M$392,"<>") -> 0 | C64: =COUNTIFS('Error Log'!$J$2:$J$392,$A64,'Error Log'!$N$2:$N$392,"Correct") -> 0 | D64: =COUNTIFS('Error Log'!$J$2:$J$392,$A64,'Error Log'!$N$2:$N$392,"Incorrect") -> 0 | E64: =IF(B64=0,"",C64/B64)
A65: Conclusion | B65: =COUNTIFS('Error Log'!$J$2:$J$392,$A65,'Error Log'!$M$2:$M$392,"<>") -> 0 | C65: =COUNTIFS('Error Log'!$J$2:$J$392,$A65,'Error Log'!$N$2:$N$392,"Correct") -> 0 | D65: =COUNTIFS('Error Log'!$J$2:$J$392,$A65,'Error Log'!$N$2:$N$392,"Incorrect") -> 0 | E65: =IF(B65=0,"",C65/B65)
A66: Discrepancy | B66: =COUNTIFS('Error Log'!$J$2:$J$392,$A66,'Error Log'!$M$2:$M$392,"<>") -> 1 | C66: =COUNTIFS('Error Log'!$J$2:$J$392,$A66,'Error Log'!$N$2:$N$392,"Correct") -> 1 | D66: =COUNTIFS('Error Log'!$J$2:$J$392,$A66,'Error Log'!$N$2:$N$392,"Incorrect") -> 0 | E66: =IF(B66=0,"",C66/B66) -> 1
A67: Evaluate | B67: =COUNTIFS('Error Log'!$J$2:$J$392,$A67,'Error Log'!$M$2:$M$392,"<>") -> 0 | C67: =COUNTIFS('Error Log'!$J$2:$J$392,$A67,'Error Log'!$N$2:$N$392,"Correct") -> 0 | D67: =COUNTIFS('Error Log'!$J$2:$J$392,$A67,'Error Log'!$N$2:$N$392,"Incorrect") -> 0 | E67: =IF(B67=0,"",C67/B67)
A68: EXCEPT | B68: =COUNTIFS('Error Log'!$J$2:$J$392,$A68,'Error Log'!$M$2:$M$392,"<>") -> 0 | C68: =COUNTIFS('Error Log'!$J$2:$J$392,$A68,'Error Log'!$N$2:$N$392,"Correct") -> 0 | D68: =COUNTIFS('Error Log'!$J$2:$J$392,$A68,'Error Log'!$N$2:$N$392,"Incorrect") -> 0 | E68: =IF(B68=0,"",C68/B68)
A69: Inference | B69: =COUNTIFS('Error Log'!$J$2:$J$392,$A69,'Error Log'!$M$2:$M$392,"<>") -> 0 | C69: =COUNTIFS('Error Log'!$J$2:$J$392,$A69,'Error Log'!$N$2:$N$392,"Correct") -> 0 | D69: =COUNTIFS('Error Log'!$J$2:$J$392,$A69,'Error Log'!$N$2:$N$392,"Incorrect") -> 0 | E69: =IF(B69=0,"",C69/B69)
A70: Main Idea | B70: =COUNTIFS('Error Log'!$J$2:$J$392,$A70,'Error Log'!$M$2:$M$392,"<>") -> 0 | C70: =COUNTIFS('Error Log'!$J$2:$J$392,$A70,'Error Log'!$N$2:$N$392,"Correct") -> 0 | D70: =COUNTIFS('Error Log'!$J$2:$J$392,$A70,'Error Log'!$N$2:$N$392,"Incorrect") -> 0 | E70: =IF(B70=0,"",C70/B70)
A71: Select in the passage | B71: =COUNTIFS('Error Log'!$J$2:$J$392,$A71,'Error Log'!$M$2:$M$392,"<>") -> 0 | C71: =COUNTIFS('Error Log'!$J$2:$J$392,$A71,'Error Log'!$N$2:$N$392,"Correct") -> 0 | D71: =COUNTIFS('Error Log'!$J$2:$J$392,$A71,'Error Log'!$N$2:$N$392,"Incorrect") -> 0 | E71: =IF(B71=0,"",C71/B71)
A72: Strengthen | B72: =COUNTIFS('Error Log'!$J$2:$J$392,$A72,'Error Log'!$M$2:$M$392,"<>") -> 0 | C72: =COUNTIFS('Error Log'!$J$2:$J$392,$A72,'Error Log'!$N$2:$N$392,"Correct") -> 0 | D72: =COUNTIFS('Error Log'!$J$2:$J$392,$A72,'Error Log'!$N$2:$N$392,"Incorrect") -> 0 | E72: =IF(B72=0,"",C72/B72)
A73: Text Portions Role | B73: =COUNTIFS('Error Log'!$J$2:$J$392,$A73,'Error Log'!$M$2:$M$392,"<>") -> 1 | C73: =COUNTIFS('Error Log'!$J$2:$J$392,$A73,'Error Log'!$N$2:$N$392,"Correct") -> 1 | D73: =COUNTIFS('Error Log'!$J$2:$J$392,$A73,'Error Log'!$N$2:$N$392,"Incorrect") -> 0 | E73: =IF(B73=0,"",C73/B73) -> 1
A74: Tone of the passage | B74: =COUNTIFS('Error Log'!$J$2:$J$392,$A74,'Error Log'!$M$2:$M$392,"<>") -> 0 | C74: =COUNTIFS('Error Log'!$J$2:$J$392,$A74,'Error Log'!$N$2:$N$392,"Correct") -> 0 | D74: =COUNTIFS('Error Log'!$J$2:$J$392,$A74,'Error Log'!$N$2:$N$392,"Incorrect") -> 0 | E74: =IF(B74=0,"",C74/B74)
... A76: Word Meaning | B76: =COUNTIFS('Error Log'!$J$2:$J$392,$A76,'Error Log'!$M$2:$M$392,"<>") -> 0 | C76: =COUNTIFS('Error Log'!$J$2:$J$392,$A76,'Error Log'!$N$2:$N$392,"Correct") -> 0 | D76: =COUNTIFS('Error Log'!$J$2:$J$392,$A76,'Error Log'!$N$2:$N$392,"Incorrect") -> 0 | E76: =IF(B76=0,"",C76/B76)
A79: Quant — Topic
A80: Category | B80: Attempted | C80: Correct | D80: Incorrect | E80: Accuracy %
A81: Absolute Values/Modules | B81: =COUNTIFS('Error Log'!$K$2:$K$392,$A81,'Error Log'!$M$2:$M$392,"<>") -> 0 | C81: =COUNTIFS('Error Log'!$K$2:$K$392,$A81,'Error Log'!$N$2:$N$392,"Correct") -> 0 | D81: =COUNTIFS('Error Log'!$K$2:$K$392,$A81,'Error Log'!$N$2:$N$392,"Incorrect") -> 0 | E81: =IF(B81=0,"",C81/B81)
A82: Algebra | B82: =COUNTIFS('Error Log'!$K$2:$K$392,$A82,'Error Log'!$M$2:$M$392,"<>") -> 0 | C82: =COUNTIFS('Error Log'!$K$2:$K$392,$A82,'Error Log'!$N$2:$N$392,"Correct") -> 0 | D82: =COUNTIFS('Error Log'!$K$2:$K$392,$A82,'Error Log'!$N$2:$N$392,"Incorrect") -> 0 | E82: =IF(B82=0,"",C82/B82)
A83: Arithmetic | B83: =COUNTIFS('Error Log'!$K$2:$K$392,$A83,'Error Log'!$M$2:$M$392,"<>") -> 0 | C83: =COUNTIFS('Error Log'!$K$2:$K$392,$A83,'Error Log'!$N$2:$N$392,"Correct") -> 0 | D83: =COUNTIFS('Error Log'!$K$2:$K$392,$A83,'Error Log'!$N$2:$N$392,"Incorrect") -> 0 | E83: =IF(B83=0,"",C83/B83)
A84: Coordinate Geometry | B84: =COUNTIFS('Error Log'!$K$2:$K$392,$A84,'Error Log'!$M$2:$M$392,"<>") -> 0 | C84: =COUNTIFS('Error Log'!$K$2:$K$392,$A84,'Error Log'!$N$2:$N$392,"Correct") -> 0 | D84: =COUNTIFS('Error Log'!$K$2:$K$392,$A84,'Error Log'!$N$2:$N$392,"Incorrect") -> 0 | E84: =IF(B84=0,"",C84/B84)
A85: Counting Methods | B85: =COUNTIFS('Error Log'!$K$2:$K$392,$A85,'Error Log'!$M$2:$M$392,"<>") -> 0 | C85: =COUNTIFS('Error Log'!$K$2:$K$392,$A85,'Error Log'!$N$2:$N$392,"Correct") -> 0 | D85: =COUNTIFS('Error Log'!$K$2:$K$392,$A85,'Error Log'!$N$2:$N$392,"Incorrect") -> 0 | E85: =IF(B85=0,"",C85/B85)
A86: Data Analysis | B86: =COUNTIFS('Error Log'!$K$2:$K$392,$A86,'Error Log'!$M$2:$M$392,"<>") -> 0 | C86: =COUNTIFS('Error Log'!$K$2:$K$392,$A86,'Error Log'!$N$2:$N$392,"Correct") -> 0 | D86: =COUNTIFS('Error Log'!$K$2:$K$392,$A86,'Error Log'!$N$2:$N$392,"Incorrect") -> 0 | E86: =IF(B86=0,"",C86/B86)
A87: Distance/Rate Problems | B87: =COUNTIFS('Error Log'!$K$2:$K$392,$A87,'Error Log'!$M$2:$M$392,"<>") -> 0 | C87: =COUNTIFS('Error Log'!$K$2:$K$392,$A87,'Error Log'!$N$2:$N$392,"Correct") -> 0 | D87: =COUNTIFS('Error Log'!$K$2:$K$392,$A87,'Error Log'!$N$2:$N$392,"Incorrect") -> 0 | E87: =IF(B87=0,"",C87/B87)
A88: Divisibility/Multiples/Factors | B88: =COUNTIFS('Error Log'!$K$2:$K$392,$A88,'Error Log'!$M$2:$M$392,"<>") -> 0 | C88: =COUNTIFS('Error Log'!$K$2:$K$392,$A88,'Error Log'!$N$2:$N$392,"Correct") -> 0 | D88: =COUNTIFS('Error Log'!$K$2:$K$392,$A88,'Error Log'!$N$2:$N$392,"Incorrect") -> 0 | E88: =IF(B88=0,"",C88/B88)
A89: Exponents/Roots | B89: =COUNTIFS('Error Log'!$K$2:$K$392,$A89,'Error Log'!$M$2:$M$392,"<>") -> 0 | C89: =COUNTIFS('Error Log'!$K$2:$K$392,$A89,'Error Log'!$N$2:$N$392,"Correct") -> 0 | D89: =COUNTIFS('Error Log'!$K$2:$K$392,$A89,'Error Log'!$N$2:$N$392,"Incorrect") -> 0 | E89: =IF(B89=0,"",C89/B89)
A90: Fractions/Ratios/Decimals | B90: =COUNTIFS('Error Log'!$K$2:$K$392,$A90,'Error Log'!$M$2:$M$392,"<>") -> 0 | C90: =COUNTIFS('Error Log'!$K$2:$K$392,$A90,'Error Log'!$N$2:$N$392,"Correct") -> 0 | D90: =COUNTIFS('Error Log'!$K$2:$K$392,$A90,'Error Log'!$N$2:$N$392,"Incorrect") -> 0 | E90: =IF(B90=0,"",C90/B90)
A91: Functions | B91: =COUNTIFS('Error Log'!$K$2:$K$392,$A91,'Error Log'!$M$2:$M$392,"<>") -> 0 | C91: =COUNTIFS('Error Log'!$K$2:$K$392,$A91,'Error Log'!$N$2:$N$392,"Correct") -> 0 | D91: =COUNTIFS('Error Log'!$K$2:$K$392,$A91,'Error Log'!$N$2:$N$392,"Incorrect") -> 0 | E91: =IF(B91=0,"",C91/B91)
A92: Geometry | B92: =COUNTIFS('Error Log'!$K$2:$K$392,$A92,'Error Log'!$M$2:$M$392,"<>") -> 0 | C92: =COUNTIFS('Error Log'!$K$2:$K$392,$A92,'Error Log'!$N$2:$N$392,"Correct") -> 0 | D92: =COUNTIFS('Error Log'!$K$2:$K$392,$A92,'Error Log'!$N$2:$N$392,"Incorrect") -> 0 | E92: =IF(B92=0,"",C92/B92)
... A105: Work/Rate Problem | B105: =COUNTIFS('Error Log'!$K$2:$K$392,$A105,'Error Log'!$M$2:$M$392,"<>") -> 0 | C105: =COUNTIFS('Error Log'!$K$2:$K$392,$A105,'Error Log'!$N$2:$N$392,"Correct") -> 0 | D105: =COUNTIFS('Error Log'!$K$2:$K$392,$A105,'Error Log'!$N$2:$N$392,"Incorrect") -> 0 | E105: =IF(B105=0,"",C105/B105)
A108: By Error Type (incorrect only)
A109: Category | B109: Attempted | C109: Correct | D109: Incorrect | E109: Accuracy %
A110: Careless / Rushed | B110: =COUNTIFS('Error Log'!$O$2:$O$392,$A110,'Error Log'!$M$2:$M$392,"<>") -> 0 | C110: =COUNTIFS('Error Log'!$O$2:$O$392,$A110,'Error Log'!$N$2:$N$392,"Correct") -> 0 | D110: =COUNTIFS('Error Log'!$O$2:$O$392,$A110,'Error Log'!$N$2:$N$392,"Incorrect") -> 0 | E110: =IF(B110=0,"",C110/B110)
A111: Misread Question | B111: =COUNTIFS('Error Log'!$O$2:$O$392,$A111,'Error Log'!$M$2:$M$392,"<>") -> 0 | C111: =COUNTIFS('Error Log'!$O$2:$O$392,$A111,'Error Log'!$N$2:$N$392,"Correct") -> 0 | D111: =COUNTIFS('Error Log'!$O$2:$O$392,$A111,'Error Log'!$N$2:$N$392,"Incorrect") -> 0 | E111: =IF(B111=0,"",C111/B111)
A112: Vocabulary Gap | B112: =COUNTIFS('Error Log'!$O$2:$O$392,$A112,'Error Log'!$M$2:$M$392,"<>") -> 0 | C112: =COUNTIFS('Error Log'!$O$2:$O$392,$A112,'Error Log'!$N$2:$N$392,"Correct") -> 0 | D112: =COUNTIFS('Error Log'!$O$2:$O$392,$A112,'Error Log'!$N$2:$N$392,"Incorrect") -> 0 | E112: =IF(B112=0,"",C112/B112)
A113: Content Knowledge Gap | B113: =COUNTIFS('Error Log'!$O$2:$O$392,$A113,'Error Log'!$M$2:$M$392,"<>") -> 0 | C113: =COUNTIFS('Error Log'!$O$2:$O$392,$A113,'Error Log'!$N$2:$N$392,"Correct") -> 0 | D113: =COUNTIFS('Error Log'!$O$2:$O$392,$A113,'Error Log'!$N$2:$N$392,"Incorrect") -> 0 | E113: =IF(B113=0,"",C113/B113)
A114: Wrong Strategy | B114: =COUNTIFS('Error Log'!$O$2:$O$392,$A114,'Error Log'!$M$2:$M$392,"<>") -> 0 | C114: =COUNTIFS('Error Log'!$O$2:$O$392,$A114,'Error Log'!$N$2:$N$392,"Correct") -> 0 | D114: =COUNTIFS('Error Log'!$O$2:$O$392,$A114,'Error Log'!$N$2:$N$392,"Incorrect") -> 0 | E114: =IF(B114=0,"",C114/B114)
A115: Time Pressure | B115: =COUNTIFS('Error Log'!$O$2:$O$392,$A115,'Error Log'!$M$2:$M$392,"<>") -> 0 | C115: =COUNTIFS('Error Log'!$O$2:$O$392,$A115,'Error Log'!$N$2:$N$392,"Correct") -> 0 | D115: =COUNTIFS('Error Log'!$O$2:$O$392,$A115,'Error Log'!$N$2:$N$392,"Incorrect") -> 0 | E115: =IF(B115=0,"",C115/B115)
A116: Trap Answer / Distractor | B116: =COUNTIFS('Error Log'!$O$2:$O$392,$A116,'Error Log'!$M$2:$M$392,"<>") -> 0 | C116: =COUNTIFS('Error Log'!$O$2:$O$392,$A116,'Error Log'!$N$2:$N$392,"Correct") -> 0 | D116: =COUNTIFS('Error Log'!$O$2:$O$392,$A116,'Error Log'!$N$2:$N$392,"Incorrect") -> 0 | E116: =IF(B116=0,"",C116/B116)
A117: Calculation Error | B117: =COUNTIFS('Error Log'!$O$2:$O$392,$A117,'Error Log'!$M$2:$M$392,"<>") -> 0 | C117: =COUNTIFS('Error Log'!$O$2:$O$392,$A117,'Error Log'!$N$2:$N$392,"Correct") -> 0 | D117: =COUNTIFS('Error Log'!$O$2:$O$392,$A117,'Error Log'!$N$2:$N$392,"Incorrect") -> 0 | E117: =IF(B117=0,"",C117/B117)
A118: Didn't Finish | B118: =COUNTIFS('Error Log'!$O$2:$O$392,$A118,'Error Log'!$M$2:$M$392,"<>") -> 0 | C118: =COUNTIFS('Error Log'!$O$2:$O$392,$A118,'Error Log'!$N$2:$N$392,"Correct") -> 0 | D118: =COUNTIFS('Error Log'!$O$2:$O$392,$A118,'Error Log'!$N$2:$N$392,"Incorrect") -> 0 | E118: =IF(B118=0,"",C118/B118)
A119: Other | B119: =COUNTIFS('Error Log'!$O$2:$O$392,$A119,'Error Log'!$M$2:$M$392,"<>") -> 0 | C119: =COUNTIFS('Error Log'!$O$2:$O$392,$A119,'Error Log'!$N$2:$N$392,"Correct") -> 0 | D119: =COUNTIFS('Error Log'!$O$2:$O$392,$A119,'Error Log'!$N$2:$N$392,"Incorrect") -> 0 | E119: =IF(B119=0,"",C119/B119)

Sheet Reference
A1: Reference — Taxonomies Used in Dropdowns
A2: Full lists live on the hidden 'Lists' tab — unhide it to edit/add categories.
A4: STATUS
A5: New (Mixed Practice Set) | B5: Question appears only in this edition's Mixed Practice Sets — not carried over.
A6: Carried Over (Prior Edition) | B6: Question also appears in the previous edition of the OG.
A8: VERBAL — WHAT IT TESTS (Text Completion / Sentence Equivalence)
A9: Definitional sentence | B9: The blank is defined/restated directly elsewhere in the sentence.
A10: Punctuation | B10: A semicolon, colon, or dash signals the logical relationship needed.
A11: Contrast-shift | B11: A contrast word (but, although, yet, however) reverses the sentence's direction.
A12: Parallel Structure | B12: The blank must match the grammatical/logical form of a parallel element.
A13: Conditional Sentence | B13: An if/then or conditional structure drives the logic of the blank.
A14: Subordinating Conjunction | B14: A subordinating conjunction (because, since, while...) sets the logic.
A16: READING COMPREHENSION — Passage Domain
A17: Passage Paragraph Argument, Business, History, Humanities, Science, Social Science | B17: Subject-matter category of the passage.
A18: READING COMPREHENSION — Passage Length
A19: Long / Medium / Short Reading | B19: Approximate passage length.
A20: READING COMPREHENSION — Question Type Tag
A21: Assumption, Complete the passage, Conclusion, Discrepancy, Evaluate, EXCEPT, Inference,
A22: Main Idea, Select in the passage, Strengthen, Text Portions Role, Tone of the passage,
A23: Weaken, Word Meaning | B23: What the question is actually asking you to do with the passage.
A25: QUANT — TOPIC
A26: Absolute Values/Modules, Algebra, Arithmetic, Coordinate Geometry, Counting Methods,
A27: Data Analysis, Distance/Rate, Divisibility/Multiples/Factors, Exponents/Roots,
A28: Fractions/Ratios/Decimals, Functions, Geometry, Graphs and Illustrations, Inequalities,
A29: Mixture Problem, Numbers Properties, Overlapping Set, Percent and Interest, Probability,
A30: Remainders, Sequences, Statistics and Sets, Strange Symbols, Word Problem, Work/Rate | B30: Underlying math content area.
A32: ERROR TYPES (why you got it wrong)
A33: Careless / Rushed | B33: You knew the content but moved too fast or misclicked.
A34: Misread Question | B34: Misunderstood what was being asked (e.g., missed 'EXCEPT' or 'NOT').
A35: Vocabulary Gap | B35: Didn't know a key word in the passage or answer choices.
A36: Content Knowledge Gap | B36: Missing math rule, grammar concept, or reasoning skill.
A37: Wrong Strategy | B37: Used an inefficient or incorrect approach even with correct knowledge.
A38: Time Pressure | B38: Rushed due to the clock, not lack of knowledge.
A39: Trap Answer / Distractor | B39: Fell for an answer designed to look right but wasn't.
A40: Calculation Error | B40: Arithmetic or algebraic slip in an otherwise correct approach.
A41: Didn't Finish | B41: Ran out of time before completing the question.

Sheet TC
A1: Q# | B1: Page / Q# in OG | C1: Status | D1: Difficulty | E1: Logic Tested | F1: Official Answer | G1: Your Answer | H1: Correct? | I1: Error Type | J1: Notes | K1: Flag for Redo
A2: =IF(B2="","",COUNTA($B$2:B2)) -> 1 | B2: p.38 Q1 | C2: Carried Over (Prior Edition) | D2: Easy | E2: Subordinating Conjunction | F2: E | H2: =IF(OR(F2="",G2=""),"",IF(UPPER(SUBSTITUTE(F2," ",""))=UPPER(SUBSTITUTE(G2," ","")),"Correct","Incorrect"))
A3: =IF(B3="","",COUNTA($B$2:B3)) -> 2 | B3: p.38 Q2 | C3: Carried Over (Prior Edition) | D3: Easy | E3: Parallel Structure | F3: A | H3: =IF(OR(F3="",G3=""),"",IF(UPPER(SUBSTITUTE(F3," ",""))=UPPER(SUBSTITUTE(G3," ","")),"Correct","Incorrect"))
A4: =IF(B4="","",COUNTA($B$2:B4)) -> 3 | B4: p.38 Q3 | C4: Carried Over (Prior Edition) | D4: Easy | E4: Contrast-shift | F4: B | H4: =IF(OR(F4="",G4=""),"",IF(UPPER(SUBSTITUTE(F4," ",""))=UPPER(SUBSTITUTE(G4," ","")),"Correct","Incorrect"))
A5: =IF(B5="","",COUNTA($B$2:B5)) -> 4 | B5: p.38-39 Q4 | C5: Carried Over (Prior Edition) | D5: Easy | E5: Contrast-shift | F5: A, E | H5: =IF(OR(F5="",G5=""),"",IF(UPPER(SUBSTITUTE(F5," ",""))=UPPER(SUBSTITUTE(G5," ","")),"Correct","Incorrect"))
A6: =IF(B6="","",COUNTA($B$2:B6)) -> 5 | B6: p.39 Q5 | C6: Carried Over (Prior Edition) | D6: Easy | E6: Contrast-shift | F6: A, E | H6: =IF(OR(F6="",G6=""),"",IF(UPPER(SUBSTITUTE(F6," ",""))=UPPER(SUBSTITUTE(G6," ","")),"Correct","Incorrect"))
A7: =IF(B7="","",COUNTA($B$2:B7)) -> 6 | B7: p.44 Q1 | C7: Carried Over (Prior Edition) | D7: Medium | E7: Contrast-shift | F7: B | H7: =IF(OR(F7="",G7=""),"",IF(UPPER(SUBSTITUTE(F7," ",""))=UPPER(SUBSTITUTE(G7," ","")),"Correct","Incorrect"))
A8: =IF(B8="","",COUNTA($B$2:B8)) -> 7 | B8: p.44 Q2 | C8: Carried Over (Prior Edition) | D8: Medium | E8: Definitional sentence | F8: A, D | H8: =IF(OR(F8="",G8=""),"",IF(UPPER(SUBSTITUTE(F8," ",""))=UPPER(SUBSTITUTE(G8," ","")),"Correct","Incorrect"))
A9: =IF(B9="","",COUNTA($B$2:B9)) -> 8 | B9: p.44 Q3 | C9: Carried Over (Prior Edition) | D9: Medium | E9: Punctuation | F9: C, E | H9: =IF(OR(F9="",G9=""),"",IF(UPPER(SUBSTITUTE(F9," ",""))=UPPER(SUBSTITUTE(G9," ","")),"Correct","Incorrect"))
A10: =IF(B10="","",COUNTA($B$2:B10)) -> 9 | B10: p.45 Q4 | C10: Carried Over (Prior Edition) | D10: Medium | E10: Conditional Sentence | F10: C, E, H | H10: =IF(OR(F10="",G10=""),"",IF(UPPER(SUBSTITUTE(F10," ",""))=UPPER(SUBSTITUTE(G10," ","")),"Correct","Incorrect"))
A11: =IF(B11="","",COUNTA($B$2:B11)) -> 10 | B11: p.45 Q5 | C11: Carried Over (Prior Edition) | D11: Medium | E11: Conditional Sentence | F11: A, F, H | H11: =IF(OR(F11="",G11=""),"",IF(UPPER(SUBSTITUTE(F11," ",""))=UPPER(SUBSTITUTE(G11," ","")),"Correct","Incorrect"))
A12: =IF(B12="","",COUNTA($B$2:B12)) -> 11 | B12: p.52 Q1 | C12: Carried Over (Prior Edition) | D12: Hard | E12: Punctuation | F12: D | H12: =IF(OR(F12="",G12=""),"",IF(UPPER(SUBSTITUTE(F12," ",""))=UPPER(SUBSTITUTE(G12," ","")),"Correct","Incorrect"))
A13: =IF(B13="","",COUNTA($B$2:B13)) -> 12 | B13: p.52 Q2 | C13: Carried Over (Prior Edition) | D13: Hard | E13: Subordinating Conjunction | F13: B, F | H13: =IF(OR(F13="",G13=""),"",IF(UPPER(SUBSTITUTE(F13," ",""))=UPPER(SUBSTITUTE(G13," ","")),"Correct","Incorrect"))
... A17: =IF(B17="","",COUNTA($B$2:B17)) -> 16 | B17: p.53 Q6 | C17: Carried Over (Prior Edition) | D17: Hard | E17: Contrast-shift | F17: B, E, G | H17: =IF(OR(F17="",G17=""),"",IF(UPPER(SUBSTITUTE(F17," ",""))=UPPER(SUBSTITUTE(G17," ","")),"Correct","Incorrect"))
A18: =IF(B18="","",COUNTA($B$2:B18)) -> 17 | B18: p.92 Q1 | C18: New (Mixed Practice Set) | D18: Medium | E18: Definitional sentence | F18: B | H18: =IF(OR(F18="",G18=""),"",IF(UPPER(SUBSTITUTE(F18," ",""))=UPPER(SUBSTITUTE(G18," ","")),"Correct","Incorrect")) | J18: P+ 46 (ETS % correct)
A19: =IF(B19="","",COUNTA($B$2:B19)) -> 18 | B19: p.92 Q2 | C19: New (Mixed Practice Set) | D19: Medium | E19: Contrast-shift | F19: E | H19: =IF(OR(F19="",G19=""),"",IF(UPPER(SUBSTITUTE(F19," ",""))=UPPER(SUBSTITUTE(G19," ","")),"Correct","Incorrect")) | J19: P+ 45 (ETS % correct)
A20: =IF(B20="","",COUNTA($B$2:B20)) -> 19 | B20: p.92 Q3 | C20: New (Mixed Practice Set) | D20: Easy | E20: Definitional sentence | F20: B, F | H20: =IF(OR(F20="",G20=""),"",IF(UPPER(SUBSTITUTE(F20," ",""))=UPPER(SUBSTITUTE(G20," ","")),"Correct","Incorrect")) | J20: P+ 56 (ETS % correct)
A21: =IF(B21="","",COUNTA($B$2:B21)) -> 20 | B21: p.93 Q4 | C21: New (Mixed Practice Set) | D21: Hard | E21: Contrast-shift | F21: A, E, I | H21: =IF(OR(F21="",G21=""),"",IF(UPPER(SUBSTITUTE(F21," ",""))=UPPER(SUBSTITUTE(G21," ","")),"Correct","Incorrect")) | J21: P+ 25 (ETS % correct)
A22: =IF(B22="","",COUNTA($B$2:B22)) -> 21 | B22: p.93 Q5 | C22: New (Mixed Practice Set) | D22: Hard | E22: Parallel Structure | F22: C, F, H | H22: =IF(OR(F22="",G22=""),"",IF(UPPER(SUBSTITUTE(F22," ",""))=UPPER(SUBSTITUTE(G22," ","")),"Correct","Incorrect")) | J22: P+ 15 (ETS % correct)
A23: =IF(B23="","",COUNTA($B$2:B23)) -> 22 | B23: p.109 Q1 | C23: New (Mixed Practice Set) | D23: Easy | E23: Definitional sentence | F23: C | H23: =IF(OR(F23="",G23=""),"",IF(UPPER(SUBSTITUTE(F23," ",""))=UPPER(SUBSTITUTE(G23," ","")),"Correct","Incorrect")) | J23: P+ 66 (ETS % correct)
A24: =IF(B24="","",COUNTA($B$2:B24)) -> 23 | B24: p.109 Q2 | C24: New (Mixed Practice Set) | D24: Easy | E24: Definitional sentence | F24: D | H24: =IF(OR(F24="",G24=""),"",IF(UPPER(SUBSTITUTE(F24," ",""))=UPPER(SUBSTITUTE(G24," ","")),"Correct","Incorrect")) | J24: P+ 60 (ETS % correct)
A25: =IF(B25="","",COUNTA($B$2:B25)) -> 24 | B25: p.109 Q3 | C25: New (Mixed Practice Set) | D25: Medium | E25: Definitional sentence | F25: C, D | H25: =IF(OR(F25="",G25=""),"",IF(UPPER(SUBSTITUTE(F25," ",""))=UPPER(SUBSTITUTE(G25," ","")),"Correct","Incorrect")) | J25: P+ 41 (ETS % correct)
A26: =IF(B26="","",COUNTA($B$2:B26)) -> 25 | B26: p.109 Q4 | C26: New (Mixed Practice Set) | D26: Easy | E26: Contrast-shift | F26: B, D | H26: =IF(OR(F26="",G26=""),"",IF(UPPER(SUBSTITUTE(F26," ",""))=UPPER(SUBSTITUTE(G26," ","")),"Correct","Incorrect")) | J26: P+ 61 (ETS % correct)
A27: =IF(B27="","",COUNTA($B$2:B27)) -> 26 | B27: p.110 Q5 | C27: New (Mixed Practice Set) | D27: Hard | E27: Contrast-shift | F27: C, D, G | H27: =IF(OR(F27="",G27=""),"",IF(UPPER(SUBSTITUTE(F27," ",""))=UPPER(SUBSTITUTE(G27," ","")),"Correct","Incorrect")) | J27: P+ 22 (ETS % correct)
A28: =IF(B28="","",COUNTA($B$2:B28)) -> 27 | B28: p.125 Q1 | C28: New (Mixed Practice Set) | D28: Easy | E28: Definitional sentence | F28: C | H28: =IF(OR(F28="",G28=""),"",IF(UPPER(SUBSTITUTE(F28," ",""))=UPPER(SUBSTITUTE(G28," ","")),"Correct","Incorrect")) | J28: P+ 64 (ETS % correct)
A29: =IF(B29="","",COUNTA($B$2:B29)) -> 28 | B29: p.125 Q2 | C29: New (Mixed Practice Set) | D29: Easy | E29: Contrast-shift | F29: E | H29: =IF(OR(F29="",G29=""),"",IF(UPPER(SUBSTITUTE(F29," ",""))=UPPER(SUBSTITUTE(G29," ","")),"Correct","Incorrect")) | J29: P+ 65 (ETS % correct)
... A42: =IF(B42="","",COUNTA($B$2:B42)) -> 41 | B42: p.160 Q5 | C42: New (Mixed Practice Set) | D42: Medium | E42: Contrast-shift | F42: B, F, G | H42: =IF(OR(F42="",G42=""),"",IF(UPPER(SUBSTITUTE(F42," ",""))=UPPER(SUBSTITUTE(G42," ","")),"Correct","Incorrect")) | J42: P+ 41 (ETS % correct)
A43: =IF(B43="","",COUNTA($B$2:B43)) -> 42 | B43: p.487 Q4 | C43: Carried Over (Prior Edition) | E43: Contrast-shift | F43: A, F | H43: =IF(OR(F43="",G43=""),"",IF(UPPER(SUBSTITUTE(F43," ",""))=UPPER(SUBSTITUTE(G43," ","")),"Correct","Incorrect")) | J43: P+ 67 (ETS % correct)
A44: =IF(B44="","",COUNTA($B$2:B44)) -> 43 | B44: p.487 Q5 | C44: Carried Over (Prior Edition) | E44: Conditional Sentence | F44: D | H44: =IF(OR(F44="",G44=""),"",IF(UPPER(SUBSTITUTE(F44," ",""))=UPPER(SUBSTITUTE(G44," ","")),"Correct","Incorrect")) | J44: P+ 63 (ETS % correct)
A45: =IF(B45="","",COUNTA($B$2:B45)) -> 44 | B45: p.488 Q7 | C45: Carried Over (Prior Edition) | E45: Contrast-shift | F45: D | H45: =IF(OR(F45="",G45=""),"",IF(UPPER(SUBSTITUTE(F45," ",""))=UPPER(SUBSTITUTE(G45," ","")),"Correct","Incorrect")) | J45: P+ 10 (ETS % correct)
A46: =IF(B46="","",COUNTA($B$2:B46)) -> 45 | B46: p.488 Q8 | C46: Carried Over (Prior Edition) | E46: Definitional sentence | F46: A, F | H46: =IF(OR(F46="",G46=""),"",IF(UPPER(SUBSTITUTE(F46," ",""))=UPPER(SUBSTITUTE(G46," ","")),"Correct","Incorrect")) | J46: P+ 36 (ETS % correct)
A47: =IF(B47="","",COUNTA($B$2:B47)) -> 46 | B47: p.489 Q9 | C47: Carried Over (Prior Edition) | E47: Contrast-shift | F47: C, D, H | H47: =IF(OR(F47="",G47=""),"",IF(UPPER(SUBSTITUTE(F47," ",""))=UPPER(SUBSTITUTE(G47," ","")),"Correct","Incorrect")) | J47: P+ 18 (ETS % correct)
A48: =IF(B48="","",COUNTA($B$2:B48)) -> 47 | B48: p.495 Q8 | C48: Carried Over (Prior Edition) | E48: Contrast-shift | F48: B, F | H48: =IF(OR(F48="",G48=""),"",IF(UPPER(SUBSTITUTE(F48," ",""))=UPPER(SUBSTITUTE(G48," ","")),"Correct","Incorrect")) | J48: P+ 62 (ETS % correct)
A49: =IF(B49="","",COUNTA($B$2:B49)) -> 48 | B49: p.495 Q9 | C49: Carried Over (Prior Edition) | E49: Definitional sentence | F49: B, D, G | H49: =IF(OR(F49="",G49=""),"",IF(UPPER(SUBSTITUTE(F49," ",""))=UPPER(SUBSTITUTE(G49," ","")),"Correct","Incorrect")) | J49: P+ 37 (ETS % correct)
A50: =IF(B50="","",COUNTA($B$2:B50)) -> 49 | B50: p.496 Q10 | C50: Carried Over (Prior Edition) | E50: Parallel Structure | F50: D | H50: =IF(OR(F50="",G50=""),"",IF(UPPER(SUBSTITUTE(F50," ",""))=UPPER(SUBSTITUTE(G50," ","")),"Correct","Incorrect")) | J50: P+ 35 (ETS % correct)
A51: =IF(B51="","",COUNTA($B$2:B51)) -> 50 | B51: p.496 Q11 | C51: Carried Over (Prior Edition) | E51: Definitional sentence | F51: E | H51: =IF(OR(F51="",G51=""),"",IF(UPPER(SUBSTITUTE(F51," ",""))=UPPER(SUBSTITUTE(G51," ","")),"Correct","Incorrect")) | J51: P+ 43 (ETS % correct)
A52: =IF(B52="","",COUNTA($B$2:B52)) -> 51 | B52: p.498 Q15 | C52: Carried Over (Prior Edition) | E52: Contrast-shift | F52: A, E | H52: =IF(OR(F52="",G52=""),"",IF(UPPER(SUBSTITUTE(F52," ",""))=UPPER(SUBSTITUTE(G52," ","")),"Correct","Incorrect")) | J52: P+ 14 (ETS % correct)
A53: =IF(B53="","",COUNTA($B$2:B53)) -> 52 | B53: p.498 Q16 | C53: Carried Over (Prior Edition) | E53: Definitional sentence | F53: B, E, H | H53: =IF(OR(F53="",G53=""),"",IF(UPPER(SUBSTITUTE(F53," ",""))=UPPER(SUBSTITUTE(G53," ","")),"Correct","Incorrect")) | J53: P+ 30 (ETS % correct)
A54: =IF(B54="","",COUNTA($B$2:B54)) -> 53 | B54: p.583 Q1 | C54: Carried Over (Prior Edition) | E54: Definitional sentence | F54: D | H54: =IF(OR(F54="",G54=""),"",IF(UPPER(SUBSTITUTE(F54," ",""))=UPPER(SUBSTITUTE(G54," ","")),"Correct","Incorrect")) | J54: P+ 72 (ETS % correct)
... A64: =IF(B64="","",COUNTA($B$2:B64)) -> 63 | B64: p.590 Q6 | C64: Carried Over (Prior Edition) | E64: Contrast-shift | F64: A, F, G | H64: =IF(OR(F64="",G64=""),"",IF(UPPER(SUBSTITUTE(F64," ",""))=UPPER(SUBSTITUTE(G64," ","")),"Correct","Incorrect")) | J64: P+ 28 (ETS % correct)

Sheet SE
A1: Q# | B1: Page / Q# in OG | C1: Status | D1: Difficulty | E1: Logic Tested | F1: Official Answer | G1: Your Answer | H1: Correct? | I1: Error Type | J1: Notes | K1: Flag for Redo
A2: =IF(B2="","",COUNTA($B$2:B2)) -> 1 | B2: p.39 Q6 | C2: Carried Over (Prior Edition) | D2: Easy | E2: Definitional sentence | F2: A, D | H2: =IF(OR(F2="",G2=""),"",IF(UPPER(SUBSTITUTE(F2," ",""))=UPPER(SUBSTITUTE(G2," ","")),"Correct","Incorrect"))
A3: =IF(B3="","",COUNTA($B$2:B3)) -> 2 | B3: p.39 Q7 | C3: Carried Over (Prior Edition) | D3: Easy | E3: Contrast-shift | F3: B, D | H3: =IF(OR(F3="",G3=""),"",IF(UPPER(SUBSTITUTE(F3," ",""))=UPPER(SUBSTITUTE(G3," ","")),"Correct","Incorrect"))
A4: =IF(B4="","",COUNTA($B$2:B4)) -> 3 | B4: p.39 Q8 | C4: Carried Over (Prior Edition) | D4: Easy | E4: Contrast-shift | F4: C, D | H4: =IF(OR(F4="",G4=""),"",IF(UPPER(SUBSTITUTE(F4," ",""))=UPPER(SUBSTITUTE(G4," ","")),"Correct","Incorrect"))
A5: =IF(B5="","",COUNTA($B$2:B5)) -> 4 | B5: p.46 Q6 | C5: Carried Over (Prior Edition) | D5: Medium | E5: Parallel Structure | F5: A, F | H5: =IF(OR(F5="",G5=""),"",IF(UPPER(SUBSTITUTE(F5," ",""))=UPPER(SUBSTITUTE(G5," ","")),"Correct","Incorrect"))
A6: =IF(B6="","",COUNTA($B$2:B6)) -> 5 | B6: p.46 Q7 | C6: Carried Over (Prior Edition) | D6: Medium | E6: Punctuation | F6: C, F | H6: =IF(OR(F6="",G6=""),"",IF(UPPER(SUBSTITUTE(F6," ",""))=UPPER(SUBSTITUTE(G6," ","")),"Correct","Incorrect"))
A7: =IF(B7="","",COUNTA($B$2:B7)) -> 6 | B7: p.46 Q8 | C7: Carried Over (Prior Edition) | D7: Medium | E7: Parallel Structure | F7: A, F | H7: =IF(OR(F7="",G7=""),"",IF(UPPER(SUBSTITUTE(F7," ",""))=UPPER(SUBSTITUTE(G7," ","")),"Correct","Incorrect"))
A8: =IF(B8="","",COUNTA($B$2:B8)) -> 7 | B8: p.54 Q7 | C8: Carried Over (Prior Edition) | D8: Hard | E8: Definitional sentence | F8: C, D | H8: =IF(OR(F8="",G8=""),"",IF(UPPER(SUBSTITUTE(F8," ",""))=UPPER(SUBSTITUTE(G8," ","")),"Correct","Incorrect"))
A9: =IF(B9="","",COUNTA($B$2:B9)) -> 8 | B9: p.54 Q8 | C9: Carried Over (Prior Edition) | D9: Hard | E9: Contrast-shift | F9: A, D | H9: =IF(OR(F9="",G9=""),"",IF(UPPER(SUBSTITUTE(F9," ",""))=UPPER(SUBSTITUTE(G9," ","")),"Correct","Incorrect"))
A10: =IF(B10="","",COUNTA($B$2:B10)) -> 9 | B10: p.54 Q9 | C10: Carried Over (Prior Edition) | D10: Hard | E10: Definitional sentence | F10: E, F | H10: =IF(OR(F10="",G10=""),"",IF(UPPER(SUBSTITUTE(F10," ",""))=UPPER(SUBSTITUTE(G10," ","")),"Correct","Incorrect"))
A11: =IF(B11="","",COUNTA($B$2:B11)) -> 10 | B11: p.96 Q12 | C11: New (Mixed Practice Set) | D11: Easy | E11: Definitional sentence | F11: B, D | H11: =IF(OR(F11="",G11=""),"",IF(UPPER(SUBSTITUTE(F11," ",""))=UPPER(SUBSTITUTE(G11," ","")),"Correct","Incorrect")) | J11: P+ 57 (ETS % correct)
A12: =IF(B12="","",COUNTA($B$2:B12)) -> 11 | B12: p.96 Q13 | C12: New (Mixed Practice Set) | D12: Easy | E12: Definitional sentence | F12: A, D | H12: =IF(OR(F12="",G12=""),"",IF(UPPER(SUBSTITUTE(F12," ",""))=UPPER(SUBSTITUTE(G12," ","")),"Correct","Incorrect")) | J12: P+ 61 (ETS % correct)
A13: =IF(B13="","",COUNTA($B$2:B13)) -> 12 | B13: p.96 Q14 | C13: New (Mixed Practice Set) | D13: Easy | E13: Definitional sentence | F13: A, B | H13: =IF(OR(F13="",G13=""),"",IF(UPPER(SUBSTITUTE(F13," ",""))=UPPER(SUBSTITUTE(G13," ","")),"Correct","Incorrect")) | J13: P+ 67 (ETS % correct)
A14: =IF(B14="","",COUNTA($B$2:B14)) -> 13 | B14: p.111 Q10 | C14: New (Mixed Practice Set) | D14: Medium | E14: Definitional sentence | F14: C, D | H14: =IF(OR(F14="",G14=""),"",IF(UPPER(SUBSTITUTE(F14," ",""))=UPPER(SUBSTITUTE(G14," ","")),"Correct","Incorrect")) | J14: P+ 48 (ETS % correct)
A15: =IF(B15="","",COUNTA($B$2:B15)) -> 14 | B15: p.112 Q11 | C15: New (Mixed Practice Set) | D15: Medium | E15: Contrast-shift | F15: A, E | H15: =IF(OR(F15="",G15=""),"",IF(UPPER(SUBSTITUTE(F15," ",""))=UPPER(SUBSTITUTE(G15," ","")),"Correct","Incorrect")) | J15: P+ 46 (ETS % correct)
A16: =IF(B16="","",COUNTA($B$2:B16)) -> 15 | B16: p.112 Q12 | C16: New (Mixed Practice Set) | D16: Easy | E16: Contrast-shift | F16: D, F | H16: =IF(OR(F16="",G16=""),"",IF(UPPER(SUBSTITUTE(F16," ",""))=UPPER(SUBSTITUTE(G16," ","")),"Correct","Incorrect")) | J16: P+ 62 (ETS % correct)
A17: =IF(B17="","",COUNTA($B$2:B17)) -> 16 | B17: p.112 Q13 | C17: New (Mixed Practice Set) | D17: Easy | E17: Definitional sentence | F17: A, F | H17: =IF(OR(F17="",G17=""),"",IF(UPPER(SUBSTITUTE(F17," ",""))=UPPER(SUBSTITUTE(G17," ","")),"Correct","Incorrect")) | J17: P+ 56 (ETS % correct)
A18: =IF(B18="","",COUNTA($B$2:B18)) -> 17 | B18: p.129 Q12 | C18: New (Mixed Practice Set) | D18: Easy | E18: Contrast-shift | F18: D, F | H18: =IF(OR(F18="",G18=""),"",IF(UPPER(SUBSTITUTE(F18," ",""))=UPPER(SUBSTITUTE(G18," ","")),"Correct","Incorrect")) | J18: P+ 72 (ETS % correct)
A19: =IF(B19="","",COUNTA($B$2:B19)) -> 18 | B19: p.129 Q13 | C19: New (Mixed Practice Set) | D19: Medium | E19: Definitional sentence | F19: A, B | H19: =IF(OR(F19="",G19=""),"",IF(UPPER(SUBSTITUTE(F19," ",""))=UPPER(SUBSTITUTE(G19," ","")),"Correct","Incorrect")) | J19: P+ 52 (ETS % correct)
A20: =IF(B20="","",COUNTA($B$2:B20)) -> 19 | B20: p.130 Q14 | C20: New (Mixed Practice Set) | D20: Medium | E20: Subordinating Conjunction | F20: B, F | H20: =IF(OR(F20="",G20=""),"",IF(UPPER(SUBSTITUTE(F20," ",""))=UPPER(SUBSTITUTE(G20," ","")),"Correct","Incorrect")) | J20: P+ 42 (ETS % correct)
A21: =IF(B21="","",COUNTA($B$2:B21)) -> 20 | B21: p.146 Q10 | C21: New (Mixed Practice Set) | D21: Easy | E21: Definitional sentence | F21: B, F | H21: =IF(OR(F21="",G21=""),"",IF(UPPER(SUBSTITUTE(F21," ",""))=UPPER(SUBSTITUTE(G21," ","")),"Correct","Incorrect")) | J21: P+ 62 (ETS % correct)
A22: =IF(B22="","",COUNTA($B$2:B22)) -> 21 | B22: p.146 Q11 | C22: New (Mixed Practice Set) | D22: Easy | E22: Subordinating Conjunction | F22: A, C | H22: =IF(OR(F22="",G22=""),"",IF(UPPER(SUBSTITUTE(F22," ",""))=UPPER(SUBSTITUTE(G22," ","")),"Correct","Incorrect")) | J22: P+ 75 (ETS % correct)
... A27: =IF(B27="","",COUNTA($B$2:B27)) -> 26 | B27: p.162 Q14 | C27: New (Mixed Practice Set) | D27: Medium | E27: Punctuation | F27: B, E | H27: =IF(OR(F27="",G27=""),"",IF(UPPER(SUBSTITUTE(F27," ",""))=UPPER(SUBSTITUTE(G27," ","")),"Correct","Incorrect")) | J27: P+ 53 (ETS % correct)
A28: =IF(B28="","",COUNTA($B$2:B28)) -> 27 | B28: p.491 Q13 | C28: Carried Over (Prior Edition) | E28: Contrast-shift | F28: A, D | H28: =IF(OR(F28="",G28=""),"",IF(UPPER(SUBSTITUTE(F28," ",""))=UPPER(SUBSTITUTE(G28," ","")),"Correct","Incorrect")) | J28: P+ 37 (ETS % correct)
A29: =IF(B29="","",COUNTA($B$2:B29)) -> 28 | B29: p.491 Q14 | C29: Carried Over (Prior Edition) | E29: Definitional sentence | F29: B, C | H29: =IF(OR(F29="",G29=""),"",IF(UPPER(SUBSTITUTE(F29," ",""))=UPPER(SUBSTITUTE(G29," ","")),"Correct","Incorrect")) | J29: P+ 69 (ETS % correct)
A30: =IF(B30="","",COUNTA($B$2:B30)) -> 29 | B30: p.491 Q15 | C30: Carried Over (Prior Edition) | E30: Contrast-shift | F30: C, E | H30: =IF(OR(F30="",G30=""),"",IF(UPPER(SUBSTITUTE(F30," ",""))=UPPER(SUBSTITUTE(G30," ","")),"Correct","Incorrect")) | J30: P+ 85 (ETS % correct)
A31: =IF(B31="","",COUNTA($B$2:B31)) -> 30 | B31: p.492 Q1 | C31: Carried Over (Prior Edition) | E31: Contrast-shift | F31: B, C | H31: =IF(OR(F31="",G31=""),"",IF(UPPER(SUBSTITUTE(F31," ",""))=UPPER(SUBSTITUTE(G31," ","")),"Correct","Incorrect")) | J31: P+ 68 (ETS % correct)
A32: =IF(B32="","",COUNTA($B$2:B32)) -> 31 | B32: p.492 Q2 | C32: Carried Over (Prior Edition) | E32: Definitional sentence | F32: A, C | H32: =IF(OR(F32="",G32=""),"",IF(UPPER(SUBSTITUTE(F32," ",""))=UPPER(SUBSTITUTE(G32," ","")),"Correct","Incorrect")) | J32: P+ 77 (ETS % correct)
A33: =IF(B33="","",COUNTA($B$2:B33)) -> 32 | B33: p.492 Q3 | C33: Carried Over (Prior Edition) | E33: Definitional sentence | F33: A, B | H33: =IF(OR(F33="",G33=""),"",IF(UPPER(SUBSTITUTE(F33," ",""))=UPPER(SUBSTITUTE(G33," ","")),"Correct","Incorrect")) | J33: P+ 51 (ETS % correct)
A34: =IF(B34="","",COUNTA($B$2:B34)) -> 33 | B34: p.493 Q4 | C34: Carried Over (Prior Edition) | E34: Contrast-shift | F34: B, F | H34: =IF(OR(F34="",G34=""),"",IF(UPPER(SUBSTITUTE(F34," ",""))=UPPER(SUBSTITUTE(G34," ","")),"Correct","Incorrect")) | J34: P+ 68 (ETS % correct)
A35: =IF(B35="","",COUNTA($B$2:B35)) -> 34 | B35: p.585 Q8 | C35: Carried Over (Prior Edition) | E35: Contrast-shift | F35: B, E | H35: =IF(OR(F35="",G35=""),"",IF(UPPER(SUBSTITUTE(F35," ",""))=UPPER(SUBSTITUTE(G35," ","")),"Correct","Incorrect")) | J35: P+ 56 (ETS % correct)
A36: =IF(B36="","",COUNTA($B$2:B36)) -> 35 | B36: p.585 Q9 | C36: Carried Over (Prior Edition) | E36: Definitional sentence | F36: A, B | H36: =IF(OR(F36="",G36=""),"",IF(UPPER(SUBSTITUTE(F36," ",""))=UPPER(SUBSTITUTE(G36," ","")),"Correct","Incorrect")) | J36: P+ 75 (ETS % correct)
A37: =IF(B37="","",COUNTA($B$2:B37)) -> 36 | B37: p.585 Q10 | C37: Carried Over (Prior Edition) | E37: Contrast-shift | F37: D, F | H37: =IF(OR(F37="",G37=""),"",IF(UPPER(SUBSTITUTE(F37," ",""))=UPPER(SUBSTITUTE(G37," ","")),"Correct","Incorrect")) | J37: P+ 59 (ETS % correct)
A38: =IF(B38="","",COUNTA($B$2:B38)) -> 37 | B38: p.592 Q11 | C38: Carried Over (Prior Edition) | E38: Contrast-shift | F38: A, C | H38: =IF(OR(F38="",G38=""),"",IF(UPPER(SUBSTITUTE(F38," ",""))=UPPER(SUBSTITUTE(G38," ","")),"Correct","Incorrect")) | J38: P+ 74 (ETS % correct)
A39: =IF(B39="","",COUNTA($B$2:B39)) -> 38 | B39: p.592 Q12 | C39: Carried Over (Prior Edition) | E39: Contrast-shift | F39: D, E | H39: =IF(OR(F39="",G39=""),"",IF(UPPER(SUBSTITUTE(F39," ",""))=UPPER(SUBSTITUTE(G39," ","")),"Correct","Incorrect")) | J39: P+ 41 (ETS % correct)
... A41: =IF(B41="","",COUNTA($B$2:B41)) -> 40 | B41: p.592 Q14 | C41: Carried Over (Prior Edition) | E41: Contrast-shift | F41: A, D | H41: =IF(OR(F41="",G41=""),"",IF(UPPER(SUBSTITUTE(F41," ",""))=UPPER(SUBSTITUTE(G41," ","")),"Correct","Incorrect")) | J41: P+ 45 (ETS % correct)

Sheet RC
A1: Q# | B1: Page / Q# in OG | C1: Status | D1: Difficulty | E1: RC - Passage Domain | F1: RC - Passage Length | G1: RC - Question Type Tag | H1: Official Answer | I1: Your Answer | J1: Correct? | K1: Error Type | L1: Notes | M1: Flag for Redo
A2: =IF(B2="","",COUNTA($B$2:B2)) -> 1 | B2: p.40 Q1 | C2: Carried Over (Prior Edition) | D2: Easy | E2: Passage Paragraph Argument | F2: Short Reading | G2: Main Idea | H2: B | J2: =IF(OR(H2="",I2=""),"",IF(UPPER(SUBSTITUTE(H2," ",""))=UPPER(SUBSTITUTE(I2," ","")),"Correct","Incorrect"))
A3: =IF(B3="","",COUNTA($B$2:B3)) -> 2 | B3: p.41 Q2 | C3: Carried Over (Prior Edition) | D3: Easy | E3: Humanities | F3: Medium Reading | G3: Select in the passage | H3: Sentence 4 | J3: =IF(OR(H3="",I3=""),"",IF(UPPER(SUBSTITUTE(H3," ",""))=UPPER(SUBSTITUTE(I3," ","")),"Correct","Incorrect"))
A4: =IF(B4="","",COUNTA($B$2:B4)) -> 3 | B4: p.41 Q3 | C4: Carried Over (Prior Edition) | D4: Easy | E4: Humanities | F4: Medium Reading | G4: Discrepancy | H4: C | J4: =IF(OR(H4="",I4=""),"",IF(UPPER(SUBSTITUTE(H4," ",""))=UPPER(SUBSTITUTE(I4," ","")),"Correct","Incorrect"))
A5: =IF(B5="","",COUNTA($B$2:B5)) -> 4 | B5: p.41 Q4 | C5: Carried Over (Prior Edition) | D5: Easy | E5: Humanities | F5: Medium Reading | G5: Inference | H5: D | J5: =IF(OR(H5="",I5=""),"",IF(UPPER(SUBSTITUTE(H5," ",""))=UPPER(SUBSTITUTE(I5," ","")),"Correct","Incorrect"))
A6: =IF(B6="","",COUNTA($B$2:B6)) -> 5 | B6: p.41 Q5 | C6: Carried Over (Prior Edition) | D6: Easy | E6: Humanities | F6: Medium Reading | G6: Text Portions Role | H6: E | J6: =IF(OR(H6="",I6=""),"",IF(UPPER(SUBSTITUTE(H6," ",""))=UPPER(SUBSTITUTE(I6," ","")),"Correct","Incorrect"))
A7: =IF(B7="","",COUNTA($B$2:B7)) -> 6 | B7: p.42 Q6 | C7: Carried Over (Prior Edition) | D7: Easy | E7: Social Science | F7: Medium Reading | G7: Inference | H7: B | J7: =IF(OR(H7="",I7=""),"",IF(UPPER(SUBSTITUTE(H7," ",""))=UPPER(SUBSTITUTE(I7," ","")),"Correct","Incorrect"))
A8: =IF(B8="","",COUNTA($B$2:B8)) -> 7 | B8: p.42 Q7 | C8: Carried Over (Prior Edition) | D8: Easy | E8: Social Science | F8: Medium Reading | G8: Inference | H8: D | J8: =IF(OR(H8="",I8=""),"",IF(UPPER(SUBSTITUTE(H8," ",""))=UPPER(SUBSTITUTE(I8," ","")),"Correct","Incorrect"))
A9: =IF(B9="","",COUNTA($B$2:B9)) -> 8 | B9: p.43 Q8 | C9: Carried Over (Prior Edition) | D9: Easy | E9: Science | F9: Medium Reading | G9: Main Idea | H9: B | J9: =IF(OR(H9="",I9=""),"",IF(UPPER(SUBSTITUTE(H9," ",""))=UPPER(SUBSTITUTE(I9," ","")),"Correct","Incorrect"))
A10: =IF(B10="","",COUNTA($B$2:B10)) -> 9 | B10: p.43 Q9 | C10: Carried Over (Prior Edition) | D10: Easy | E10: Science | F10: Medium Reading | G10: Text Portions Role | H10: D | J10: =IF(OR(H10="",I10=""),"",IF(UPPER(SUBSTITUTE(H10," ",""))=UPPER(SUBSTITUTE(I10," ","")),"Correct","Incorrect"))
A11: =IF(B11="","",COUNTA($B$2:B11)) -> 10 | B11: p.47 Q1 | C11: Carried Over (Prior Edition) | D11: Medium | E11: Humanities | F11: Medium Reading | G11: Evaluate | H11: A, C | J11: =IF(OR(H11="",I11=""),"",IF(UPPER(SUBSTITUTE(H11," ",""))=UPPER(SUBSTITUTE(I11," ","")),"Correct","Incorrect"))
A12: =IF(B12="","",COUNTA($B$2:B12)) -> 11 | B12: p.47 Q2 | C12: Carried Over (Prior Edition) | D12: Medium | E12: Humanities | F12: Medium Reading | G12: Text Portions Role | H12: C | J12: =IF(OR(H12="",I12=""),"",IF(UPPER(SUBSTITUTE(H12," ",""))=UPPER(SUBSTITUTE(I12," ","")),"Correct","Incorrect"))
A13: =IF(B13="","",COUNTA($B$2:B13)) -> 12 | B13: p.48 Q3 | C13: Carried Over (Prior Edition) | D13: Medium | E13: Science | F13: Short Reading | G13: Discrepancy | H13: B | J13: =IF(OR(H13="",I13=""),"",IF(UPPER(SUBSTITUTE(H13," ",""))=UPPER(SUBSTITUTE(I13," ","")),"Correct","Incorrect"))
... A27: =IF(B27="","",COUNTA($B$2:B27)) -> 26 | B27: p.58 Q8 | C27: Carried Over (Prior Edition) | D27: Hard | E27: Humanities | F27: Long Reading | G27: Inference | H27: B | J27: =IF(OR(H27="",I27=""),"",IF(UPPER(SUBSTITUTE(H27," ",""))=UPPER(SUBSTITUTE(I27," ","")),"Correct","Incorrect"))
A28: =IF(B28="","",COUNTA($B$2:B28)) -> 27 | B28: p.94 Q6 | C28: New (Mixed Practice Set) | D28: Easy | E28: Science | F28: Medium Reading | G28: Inference | H28: A | J28: =IF(OR(H28="",I28=""),"",IF(UPPER(SUBSTITUTE(H28," ",""))=UPPER(SUBSTITUTE(I28," ","")),"Correct","Incorrect")) | L28: P+ 57 (ETS % correct)
A29: =IF(B29="","",COUNTA($B$2:B29)) -> 28 | B29: p.94 Q7 | C29: New (Mixed Practice Set) | D29: Medium | E29: Science | F29: Medium Reading | G29: Inference | H29: A, B | J29: =IF(OR(H29="",I29=""),"",IF(UPPER(SUBSTITUTE(H29," ",""))=UPPER(SUBSTITUTE(I29," ","")),"Correct","Incorrect")) | L29: P+ 48 (ETS % correct)
A30: =IF(B30="","",COUNTA($B$2:B30)) -> 29 | B30: p.95 Q8 | C30: New (Mixed Practice Set) | D30: Easy | E30: History | F30: Long Reading | G30: Main Idea | H30: C | J30: =IF(OR(H30="",I30=""),"",IF(UPPER(SUBSTITUTE(H30," ",""))=UPPER(SUBSTITUTE(I30," ","")),"Correct","Incorrect")) | L30: P+ 65 (ETS % correct)
A31: =IF(B31="","",COUNTA($B$2:B31)) -> 30 | B31: p.95 Q9 | C31: New (Mixed Practice Set) | D31: Easy | E31: History | F31: Long Reading | G31: Inference | H31: C | J31: =IF(OR(H31="",I31=""),"",IF(UPPER(SUBSTITUTE(H31," ",""))=UPPER(SUBSTITUTE(I31," ","")),"Correct","Incorrect")) | L31: P+ 62 (ETS % correct)
A32: =IF(B32="","",COUNTA($B$2:B32)) -> 31 | B32: p.95 Q10 | C32: New (Mixed Practice Set) | D32: Medium | E32: History | F32: Long Reading | G32: Text Portions Role | H32: B | J32: =IF(OR(H32="",I32=""),"",IF(UPPER(SUBSTITUTE(H32," ",""))=UPPER(SUBSTITUTE(I32," ","")),"Correct","Incorrect")) | L32: P+ 42 (ETS % correct)
A33: =IF(B33="","",COUNTA($B$2:B33)) -> 32 | B33: p.96 Q11 | C33: New (Mixed Practice Set) | D33: Medium | E33: History | F33: Long Reading | G33: Inference | H33: D | J33: =IF(OR(H33="",I33=""),"",IF(UPPER(SUBSTITUTE(H33," ",""))=UPPER(SUBSTITUTE(I33," ","")),"Correct","Incorrect")) | L33: P+ 39 (ETS % correct)
A34: =IF(B34="","",COUNTA($B$2:B34)) -> 33 | B34: p.97 Q15 | C34: New (Mixed Practice Set) | D34: Medium | E34: History | F34: Short Reading | G34: Weaken | H34: E | J34: =IF(OR(H34="",I34=""),"",IF(UPPER(SUBSTITUTE(H34," ",""))=UPPER(SUBSTITUTE(I34," ","")),"Correct","Incorrect")) | L34: P+ 54 (ETS % correct)
A35: =IF(B35="","",COUNTA($B$2:B35)) -> 34 | B35: p.110 Q6 | C35: New (Mixed Practice Set) | D35: Easy | E35: Social Science | F35: Medium Reading | G35: Text Portions Role | H35: C | J35: =IF(OR(H35="",I35=""),"",IF(UPPER(SUBSTITUTE(H35," ",""))=UPPER(SUBSTITUTE(I35," ","")),"Correct","Incorrect")) | L35: P+ 77 (ETS % correct)
A36: =IF(B36="","",COUNTA($B$2:B36)) -> 35 | B36: p.110 Q7 | C36: New (Mixed Practice Set) | D36: Easy | E36: Social Science | F36: Medium Reading | G36: Word Meaning | H36: D | J36: =IF(OR(H36="",I36=""),"",IF(UPPER(SUBSTITUTE(H36," ",""))=UPPER(SUBSTITUTE(I36," ","")),"Correct","Incorrect")) | L36: P+ 68 (ETS % correct)
A37: =IF(B37="","",COUNTA($B$2:B37)) -> 36 | B37: p.111 Q8 | C37: New (Mixed Practice Set) | D37: Medium | E37: Science | F37: Medium Reading | G37: Inference | H37: E | J37: =IF(OR(H37="",I37=""),"",IF(UPPER(SUBSTITUTE(H37," ",""))=UPPER(SUBSTITUTE(I37," ","")),"Correct","Incorrect")) | L37: P+ 54 (ETS % correct)
A38: =IF(B38="","",COUNTA($B$2:B38)) -> 37 | B38: p.111 Q9 | C38: New (Mixed Practice Set) | D38: Medium | E38: Science | F38: Medium Reading | G38: Main Idea | H38: C | J38: =IF(OR(H38="",I38=""),"",IF(UPPER(SUBSTITUTE(H38," ",""))=UPPER(SUBSTITUTE(I38," ","")),"Correct","Incorrect")) | L38: P+ 51 (ETS % correct)
A39: =IF(B39="","",COUNTA($B$2:B39)) -> 38 | B39: p.113 Q14 | C39: New (Mixed Practice Set) | D39: Easy | E39: History | F39: Short Reading | G39: Complete the passage | H39: D | J39: =IF(OR(H39="",I39=""),"",IF(UPPER(SUBSTITUTE(H39," ",""))=UPPER(SUBSTITUTE(I39," ","")),"Correct","Incorrect")) | L39: P+ 62 (ETS % correct)
... A60: =IF(B60="","",COUNTA($B$2:B60)) -> 59 | B60: p.163 Q15 | C60: New (Mixed Practice Set) | D60: Hard | E60: Science | F60: Short Reading | G60: Assumption | H60: C | J60: =IF(OR(H60="",I60=""),"",IF(UPPER(SUBSTITUTE(H60," ",""))=UPPER(SUBSTITUTE(I60," ","")),"Correct","Incorrect")) | L60: P+ 34 (ETS % correct)
A61: =IF(B61="","",COUNTA($B$2:B61)) -> 60 | B61: p.486 Q1 | C61: Carried Over (Prior Edition) | E61: Humanities | F61: Short Reading | G61: Inference | H61: A, B | J61: =IF(OR(H61="",I61=""),"",IF(UPPER(SUBSTITUTE(H61," ",""))=UPPER(SUBSTITUTE(I61," ","")),"Correct","Incorrect")) | L61: P+ 37 (ETS % correct)
A62: =IF(B62="","",COUNTA($B$2:B62)) -> 61 | B62: p.486 Q2 | C62: Carried Over (Prior Edition) | E62: Humanities | F62: Short Reading | G62: Select in the passage | H62: Sentence 6 | J62: =IF(OR(H62="",I62=""),"",IF(UPPER(SUBSTITUTE(H62," ",""))=UPPER(SUBSTITUTE(I62," ","")),"Correct","Incorrect")) | L62: P+ 59 (ETS % correct)
A63: =IF(B63="","",COUNTA($B$2:B63)) -> 62 | B63: p.486 Q3 | C63: Carried Over (Prior Edition) | E63: Humanities | F63: Short Reading | G63: Word Meaning | H63: B | J63: =IF(OR(H63="",I63=""),"",IF(UPPER(SUBSTITUTE(H63," ",""))=UPPER(SUBSTITUTE(I63," ","")),"Correct","Incorrect")) | L63: P+ 55 (ETS % correct)
A64: =IF(B64="","",COUNTA($B$2:B64)) -> 63 | B64: p.488 Q6 | C64: Carried Over (Prior Edition) | E64: Social Science | F64: Short Reading | G64: Discrepancy | H64: A | J64: =IF(OR(H64="",I64=""),"",IF(UPPER(SUBSTITUTE(H64," ",""))=UPPER(SUBSTITUTE(I64," ","")),"Correct","Incorrect")) | L64: P+ 86 (ETS % correct)
A65: =IF(B65="","",COUNTA($B$2:B65)) -> 64 | B65: p.490 Q10 | C65: Carried Over (Prior Edition) | E65: Humanities | F65: Short Reading | G65: Text Portions Role | H65: C | J65: =IF(OR(H65="",I65=""),"",IF(UPPER(SUBSTITUTE(H65," ",""))=UPPER(SUBSTITUTE(I65," ","")),"Correct","Incorrect")) | L65: P+ 56 (ETS % correct)
A66: =IF(B66="","",COUNTA($B$2:B66)) -> 65 | B66: p.490 Q11 | C66: Carried Over (Prior Edition) | E66: Humanities | F66: Short Reading | G66: Inference | H66: C | J66: =IF(OR(H66="",I66=""),"",IF(UPPER(SUBSTITUTE(H66," ",""))=UPPER(SUBSTITUTE(I66," ","")),"Correct","Incorrect")) | L66: P+ 41 (ETS % correct)
A67: =IF(B67="","",COUNTA($B$2:B67)) -> 66 | B67: p.490 Q12 | C67: Carried Over (Prior Edition) | E67: Humanities | F67: Short Reading | G67: Word Meaning | H67: A | J67: =IF(OR(H67="",I67=""),"",IF(UPPER(SUBSTITUTE(H67," ",""))=UPPER(SUBSTITUTE(I67," ","")),"Correct","Incorrect")) | L67: P+ 77 (ETS % correct)
A68: =IF(B68="","",COUNTA($B$2:B68)) -> 67 | B68: p.494 Q5 | C68: Carried Over (Prior Edition) | E68: Science | F68: Short Reading | G68: Inference | H68: A, B, C | J68: =IF(OR(H68="",I68=""),"",IF(UPPER(SUBSTITUTE(H68," ",""))=UPPER(SUBSTITUTE(I68," ","")),"Correct","Incorrect")) | L68: P+ 33 (ETS % correct)
A69: =IF(B69="","",COUNTA($B$2:B69)) -> 68 | B69: p.494 Q6 | C69: Carried Over (Prior Edition) | E69: Science | F69: Short Reading | G69: Text Portions Role | H69: A | J69: =IF(OR(H69="",I69=""),"",IF(UPPER(SUBSTITUTE(H69," ",""))=UPPER(SUBSTITUTE(I69," ","")),"Correct","Incorrect")) | L69: P+ 33 (ETS % correct)
A70: =IF(B70="","",COUNTA($B$2:B70)) -> 69 | B70: p.495 Q7 | C70: Carried Over (Prior Edition) | E70: Social Science | F70: Short Reading | G70: Strengthen | H70: E | J70: =IF(OR(H70="",I70=""),"",IF(UPPER(SUBSTITUTE(H70," ",""))=UPPER(SUBSTITUTE(I70," ","")),"Correct","Incorrect")) | L70: P+ 26 (ETS % correct)
A71: =IF(B71="","",COUNTA($B$2:B71)) -> 70 | B71: p.497 Q12 | C71: Carried Over (Prior Edition) | E71: Humanities | F71: Short Reading | G71: Inference | H71: C | J71: =IF(OR(H71="",I71=""),"",IF(UPPER(SUBSTITUTE(H71," ",""))=UPPER(SUBSTITUTE(I71," ","")),"Correct","Incorrect")) | L71: P+ 56 (ETS % correct)
A72: =IF(B72="","",COUNTA($B$2:B72)) -> 71 | B72: p.497 Q13 | C72: Carried Over (Prior Edition) | E72: Humanities | F72: Short Reading | G72: Text Portions Role | H72: D | J72: =IF(OR(H72="",I72=""),"",IF(UPPER(SUBSTITUTE(H72," ",""))=UPPER(SUBSTITUTE(I72," ","")),"Correct","Incorrect")) | L72: P+ 75 (ETS % correct)
... A94: =IF(B94="","",COUNTA($B$2:B94)) -> 93 | B94: p.595 Q20 | C94: Carried Over (Prior Edition) | E94: Humanities | F94: Short Reading | G94: Inference | H94: C | J94: =IF(OR(H94="",I94=""),"",IF(UPPER(SUBSTITUTE(H94," ",""))=UPPER(SUBSTITUTE(I94," ","")),"Correct","Incorrect")) | L94: P+ 78 (ETS % correct)

Sheet QC
A1: Q# | B1: Page / Q# in OG | C1: Status | D1: Difficulty | E1: Quant - Topic | F1: Official Answer | G1: Your Answer | H1: Correct? | I1: Error Type | J1: Notes | K1: Flag for Redo
A2: =IF(B2="","",COUNTA($B$2:B2)) -> 1 | B2: p.223 Q1 | C2: Carried Over (Prior Edition) | D2: Easy | E2: Percent and Interest Problem | F2: A | H2: =IF(OR(F2="",G2=""),"",IF(UPPER(SUBSTITUTE(F2," ",""))=UPPER(SUBSTITUTE(G2," ","")),"Correct","Incorrect"))
A3: =IF(B3="","",COUNTA($B$2:B3)) -> 2 | B3: p.224 Q2 | C3: Carried Over (Prior Edition) | D3: Easy | E3: Geometry | F3: C | H3: =IF(OR(F3="",G3=""),"",IF(UPPER(SUBSTITUTE(F3," ",""))=UPPER(SUBSTITUTE(G3," ","")),"Correct","Incorrect"))
A4: =IF(B4="","",COUNTA($B$2:B4)) -> 3 | B4: p.224 Q3 | C4: Carried Over (Prior Edition) | D4: Easy | E4: Percent and Interest Problem | F4: A | H4: =IF(OR(F4="",G4=""),"",IF(UPPER(SUBSTITUTE(F4," ",""))=UPPER(SUBSTITUTE(G4," ","")),"Correct","Incorrect"))
A5: =IF(B5="","",COUNTA($B$2:B5)) -> 4 | B5: p.224 Q4 | C5: Carried Over (Prior Edition) | D5: Easy | E5: Algebra | F5: D | H5: =IF(OR(F5="",G5=""),"",IF(UPPER(SUBSTITUTE(F5," ",""))=UPPER(SUBSTITUTE(G5," ","")),"Correct","Incorrect"))
A6: =IF(B6="","",COUNTA($B$2:B6)) -> 5 | B6: p.224 Q5 | C6: Carried Over (Prior Edition) | D6: Easy | E6: Numbers Properties | F6: B | H6: =IF(OR(F6="",G6=""),"",IF(UPPER(SUBSTITUTE(F6," ",""))=UPPER(SUBSTITUTE(G6," ","")),"Correct","Incorrect"))
A7: =IF(B7="","",COUNTA($B$2:B7)) -> 6 | B7: p.225 Q6 | C7: Carried Over (Prior Edition) | D7: Easy | E7: Coordinate Geometry | F7: A | H7: =IF(OR(F7="",G7=""),"",IF(UPPER(SUBSTITUTE(F7," ",""))=UPPER(SUBSTITUTE(G7," ","")),"Correct","Incorrect"))
A8: =IF(B8="","",COUNTA($B$2:B8)) -> 7 | B8: p.228 Q1 | C8: Carried Over (Prior Edition) | D8: Medium | E8: Work/Rate Problem | F8: A | H8: =IF(OR(F8="",G8=""),"",IF(UPPER(SUBSTITUTE(F8," ",""))=UPPER(SUBSTITUTE(G8," ","")),"Correct","Incorrect"))
A9: =IF(B9="","",COUNTA($B$2:B9)) -> 8 | B9: p.228 Q2 | C9: Carried Over (Prior Edition) | D9: Medium | E9: Statistics and Sets Problem | F9: B | H9: =IF(OR(F9="",G9=""),"",IF(UPPER(SUBSTITUTE(F9," ",""))=UPPER(SUBSTITUTE(G9," ","")),"Correct","Incorrect"))
A10: =IF(B10="","",COUNTA($B$2:B10)) -> 9 | B10: p.229 Q3 | C10: Carried Over (Prior Edition) | D10: Medium | E10: Geometry | F10: D | H10: =IF(OR(F10="",G10=""),"",IF(UPPER(SUBSTITUTE(F10," ",""))=UPPER(SUBSTITUTE(G10," ","")),"Correct","Incorrect"))
A11: =IF(B11="","",COUNTA($B$2:B11)) -> 10 | B11: p.229 Q4 | C11: Carried Over (Prior Edition) | D11: Medium | E11: Inequalities | F11: B | H11: =IF(OR(F11="",G11=""),"",IF(UPPER(SUBSTITUTE(F11," ",""))=UPPER(SUBSTITUTE(G11," ","")),"Correct","Incorrect"))
A12: =IF(B12="","",COUNTA($B$2:B12)) -> 11 | B12: p.229 Q5 | C12: Carried Over (Prior Edition) | D12: Medium | E12: Word Problem | F12: C | H12: =IF(OR(F12="",G12=""),"",IF(UPPER(SUBSTITUTE(F12," ",""))=UPPER(SUBSTITUTE(G12," ","")),"Correct","Incorrect"))
A13: =IF(B13="","",COUNTA($B$2:B13)) -> 12 | B13: p.233 Q1 | C13: Carried Over (Prior Edition) | D13: Hard | E13: Geometry | F13: B | H13: =IF(OR(F13="",G13=""),"",IF(UPPER(SUBSTITUTE(F13," ",""))=UPPER(SUBSTITUTE(G13," ","")),"Correct","Incorrect"))
... A18: =IF(B18="","",COUNTA($B$2:B18)) -> 17 | B18: p.234 Q6 | C18: Carried Over (Prior Edition) | D18: Hard | E18: Numbers Properties | F18: C | H18: =IF(OR(F18="",G18=""),"",IF(UPPER(SUBSTITUTE(F18," ",""))=UPPER(SUBSTITUTE(G18," ","")),"Correct","Incorrect"))
A19: =IF(B19="","",COUNTA($B$2:B19)) -> 1 | B19: p.286 Q1 | C19: New (Mixed Practice Set) | E19: Algebra | F19: A | H19: =IF(OR(F19="",G19=""),"",IF(UPPER(SUBSTITUTE(F19," ",""))=UPPER(SUBSTITUTE(G19," ","")),"Correct","Incorrect")) | J19: P+ 67 (ETS % correct)
A20: =IF(B20="","",COUNTA($B$2:B20)) -> 2 | B20: p.286 Q2 | C20: New (Mixed Practice Set) | E20: Coordinate Geometry | F20: B | H20: =IF(OR(F20="",G20=""),"",IF(UPPER(SUBSTITUTE(F20," ",""))=UPPER(SUBSTITUTE(G20," ","")),"Correct","Incorrect")) | J20: P+ 58 (ETS % correct)
A21: =IF(B21="","",COUNTA($B$2:B21)) -> 3 | B21: p.286 Q3 | C21: New (Mixed Practice Set) | E21: Numbers Properties | F21: D | H21: =IF(OR(F21="",G21=""),"",IF(UPPER(SUBSTITUTE(F21," ",""))=UPPER(SUBSTITUTE(G21," ","")),"Correct","Incorrect")) | J21: P+ 53 (ETS % correct)
A22: =IF(B22="","",COUNTA($B$2:B22)) -> 4 | B22: p.286 Q4 | C22: New (Mixed Practice Set) | E22: Statistics and Sets Problem | F22: D | H22: =IF(OR(F22="",G22=""),"",IF(UPPER(SUBSTITUTE(F22," ",""))=UPPER(SUBSTITUTE(G22," ","")),"Correct","Incorrect")) | J22: P+ 48 (ETS % correct)
A23: =IF(B23="","",COUNTA($B$2:B23)) -> 5 | B23: p.287 Q5 | C23: New (Mixed Practice Set) | E23: Geometry | F23: A | H23: =IF(OR(F23="",G23=""),"",IF(UPPER(SUBSTITUTE(F23," ",""))=UPPER(SUBSTITUTE(G23," ","")),"Correct","Incorrect"))
A24: =IF(B24="","",COUNTA($B$2:B24)) -> 6 | B24: p.287 Q6 | C24: New (Mixed Practice Set) | E24: Geometry | F24: B | H24: =IF(OR(F24="",G24=""),"",IF(UPPER(SUBSTITUTE(F24," ",""))=UPPER(SUBSTITUTE(G24," ","")),"Correct","Incorrect"))
A25: =IF(B25="","",COUNTA($B$2:B25)) -> 7 | B25: p.291 Q1 | C25: New (Mixed Practice Set) | E25: Algebra | F25: C | H25: =IF(OR(F25="",G25=""),"",IF(UPPER(SUBSTITUTE(F25," ",""))=UPPER(SUBSTITUTE(G25," ","")),"Correct","Incorrect")) | J25: P+ 70 (ETS % correct)
A26: =IF(B26="","",COUNTA($B$2:B26)) -> 8 | B26: p.291 Q2 | C26: New (Mixed Practice Set) | E26: Sequences | F26: A | H26: =IF(OR(F26="",G26=""),"",IF(UPPER(SUBSTITUTE(F26," ",""))=UPPER(SUBSTITUTE(G26," ","")),"Correct","Incorrect")) | J26: P+ 61 (ETS % correct)
A27: =IF(B27="","",COUNTA($B$2:B27)) -> 9 | B27: p.291 Q3 | C27: New (Mixed Practice Set) | E27: Statistics and Sets Problem | F27: B | H27: =IF(OR(F27="",G27=""),"",IF(UPPER(SUBSTITUTE(F27," ",""))=UPPER(SUBSTITUTE(G27," ","")),"Correct","Incorrect")) | J27: P+ 55 (ETS % correct)
A28: =IF(B28="","",COUNTA($B$2:B28)) -> 10 | B28: p.292 Q4 | C28: New (Mixed Practice Set) | E28: Algebra | F28: A | H28: =IF(OR(F28="",G28=""),"",IF(UPPER(SUBSTITUTE(F28," ",""))=UPPER(SUBSTITUTE(G28," ","")),"Correct","Incorrect")) | J28: P+ 58 (ETS % correct)
A29: =IF(B29="","",COUNTA($B$2:B29)) -> 11 | B29: p.292 Q5 | C29: New (Mixed Practice Set) | E29: Numbers Properties | F29: C | H29: =IF(OR(F29="",G29=""),"",IF(UPPER(SUBSTITUTE(F29," ",""))=UPPER(SUBSTITUTE(G29," ","")),"Correct","Incorrect")) | J29: P+ 54 (ETS % correct)
A30: =IF(B30="","",COUNTA($B$2:B30)) -> 12 | B30: p.292 Q6 | C30: New (Mixed Practice Set) | E30: Geometry | F30: D | H30: =IF(OR(F30="",G30=""),"",IF(UPPER(SUBSTITUTE(F30," ",""))=UPPER(SUBSTITUTE(G30," ","")),"Correct","Incorrect")) | J30: P+ 38 (ETS % correct)
A31: =IF(B31="","",COUNTA($B$2:B31)) -> 13 | B31: p.296 Q1 | C31: New (Mixed Practice Set) | E31: Percent and Interest Problem | F31: B | H31: =IF(OR(F31="",G31=""),"",IF(UPPER(SUBSTITUTE(F31," ",""))=UPPER(SUBSTITUTE(G31," ","")),"Correct","Incorrect"))
A32: =IF(B32="","",COUNTA($B$2:B32)) -> 14 | B32: p.296 Q2 | C32: New (Mixed Practice Set) | E32: Geometry | F32: A | H32: =IF(OR(F32="",G32=""),"",IF(UPPER(SUBSTITUTE(F32," ",""))=UPPER(SUBSTITUTE(G32," ","")),"Correct","Incorrect"))
A33: =IF(B33="","",COUNTA($B$2:B33)) -> 15 | B33: p.296 Q3 | C33: New (Mixed Practice Set) | E33: Statistics and Sets Problem | F33: A | H33: =IF(OR(F33="",G33=""),"",IF(UPPER(SUBSTITUTE(F33," ",""))=UPPER(SUBSTITUTE(G33," ","")),"Correct","Incorrect"))
A34: =IF(B34="","",COUNTA($B$2:B34)) -> 16 | B34: p.297 Q4 | C34: New (Mixed Practice Set) | E34: Algebra | F34: D | H34: =IF(OR(F34="",G34=""),"",IF(UPPER(SUBSTITUTE(F34," ",""))=UPPER(SUBSTITUTE(G34," ","")),"Correct","Incorrect")) | J34: P+ 49 (ETS % correct)
A35: =IF(B35="","",COUNTA($B$2:B35)) -> 17 | B35: p.297 Q5 | C35: New (Mixed Practice Set) | E35: Divisibility/Multiples/Factors | F35: C | H35: =IF(OR(F35="",G35=""),"",IF(UPPER(SUBSTITUTE(F35," ",""))=UPPER(SUBSTITUTE(G35," ","")),"Correct","Incorrect")) | J35: P+ 28 (ETS % correct)
A36: =IF(B36="","",COUNTA($B$2:B36)) -> 18 | B36: p.301 Q1 | C36: New (Mixed Practice Set) | E36: Word Problem | F36: D | H36: =IF(OR(F36="",G36=""),"",IF(UPPER(SUBSTITUTE(F36," ",""))=UPPER(SUBSTITUTE(G36," ","")),"Correct","Incorrect")) | J36: P+ 62 (ETS % correct)
A37: =IF(B37="","",COUNTA($B$2:B37)) -> 19 | B37: p.301 Q2 | C37: New (Mixed Practice Set) | E37: Inequalities | F37: D | H37: =IF(OR(F37="",G37=""),"",IF(UPPER(SUBSTITUTE(F37," ",""))=UPPER(SUBSTITUTE(G37," ","")),"Correct","Incorrect")) | J37: P+ 44 (ETS % correct)
A38: =IF(B38="","",COUNTA($B$2:B38)) -> 20 | B38: p.301 Q3 | C38: New (Mixed Practice Set) | E38: Statistics and Sets Problem | F38: C | H38: =IF(OR(F38="",G38=""),"",IF(UPPER(SUBSTITUTE(F38," ",""))=UPPER(SUBSTITUTE(G38," ","")),"Correct","Incorrect")) | J38: P+ 51 (ETS % correct)
A39: =IF(B39="","",COUNTA($B$2:B39)) -> 21 | B39: p.301 Q4 | C39: New (Mixed Practice Set) | E39: Exponents/Roots | F39: A | H39: =IF(OR(F39="",G39=""),"",IF(UPPER(SUBSTITUTE(F39," ",""))=UPPER(SUBSTITUTE(G39," ","")),"Correct","Incorrect")) | J39: P+ 66 (ETS % correct)
A40: =IF(B40="","",COUNTA($B$2:B40)) -> 22 | B40: p.302 Q5 | C40: New (Mixed Practice Set) | E40: Geometry | F40: A | H40: =IF(OR(F40="",G40=""),"",IF(UPPER(SUBSTITUTE(F40," ",""))=UPPER(SUBSTITUTE(G40," ","")),"Correct","Incorrect")) | J40: P+ 55 (ETS % correct)
A41: =IF(B41="","",COUNTA($B$2:B41)) -> 23 | B41: p.305 Q1 | C41: New (Mixed Practice Set) | E41: Algebra | F41: C | H41: =IF(OR(F41="",G41=""),"",IF(UPPER(SUBSTITUTE(F41," ",""))=UPPER(SUBSTITUTE(G41," ","")),"Correct","Incorrect")) | J41: P+ 61 (ETS % correct)
A42: =IF(B42="","",COUNTA($B$2:B42)) -> 24 | B42: p.305 Q2 | C42: New (Mixed Practice Set) | E42: Sequences | F42: B | H42: =IF(OR(F42="",G42=""),"",IF(UPPER(SUBSTITUTE(F42," ",""))=UPPER(SUBSTITUTE(G42," ","")),"Correct","Incorrect")) | J42: P+ 72 (ETS % correct)
A43: =IF(B43="","",COUNTA($B$2:B43)) -> 25 | B43: p.305 Q3 | C43: New (Mixed Practice Set) | E43: Statistics and Sets Problem | F43: A | H43: =IF(OR(F43="",G43=""),"",IF(UPPER(SUBSTITUTE(F43," ",""))=UPPER(SUBSTITUTE(G43," ","")),"Correct","Incorrect")) | J43: P+ 61 (ETS % correct)
A44: =IF(B44="","",COUNTA($B$2:B44)) -> 26 | B44: p.306 Q4 | C44: New (Mixed Practice Set) | E44: Geometry | F44: B | H44: =IF(OR(F44="",G44=""),"",IF(UPPER(SUBSTITUTE(F44," ",""))=UPPER(SUBSTITUTE(G44," ","")),"Correct","Incorrect")) | J44: P+ 47 (ETS % correct)
A45: =IF(B45="","",COUNTA($B$2:B45)) -> 27 | B45: p.306 Q5 | C45: New (Mixed Practice Set) | E45: Exponents/Roots | F45: D | H45: =IF(OR(F45="",G45=""),"",IF(UPPER(SUBSTITUTE(F45," ",""))=UPPER(SUBSTITUTE(G45," ","")),"Correct","Incorrect")) | J45: P+ 51 (ETS % correct)
... A60: =IF(B60="","",COUNTA($B$2:B60)) -> 42 | B60: p.597 Q3 | C60: Carried Over (Prior Edition) | E60: Geometry | F60: B | H60: =IF(OR(F60="",G60=""),"",IF(UPPER(SUBSTITUTE(F60," ",""))=UPPER(SUBSTITUTE(G60," ","")),"Correct","Incorrect")) | J60: P+ 73 (ETS % correct)
A61: =IF(B61="","",COUNTA($B$2:B61)) -> 43 | B61: p.598 Q4 | C61: Carried Over (Prior Edition) | E61: Exponents/Roots | F61: C | H61: =IF(OR(F61="",G61=""),"",IF(UPPER(SUBSTITUTE(F61," ",""))=UPPER(SUBSTITUTE(G61," ","")),"Correct","Incorrect"))
A62: =IF(B62="","",COUNTA($B$2:B62)) -> 44 | B62: p.598 Q5 | C62: Carried Over (Prior Edition) | E62: Statistics and Sets Problem | F62: C | H62: =IF(OR(F62="",G62=""),"",IF(UPPER(SUBSTITUTE(F62," ",""))=UPPER(SUBSTITUTE(G62," ","")),"Correct","Incorrect"))
A63: =IF(B63="","",COUNTA($B$2:B63)) -> 45 | B63: p.603 Q1 | C63: Carried Over (Prior Edition) | E63: Geometry | F63: A | H63: =IF(OR(F63="",G63=""),"",IF(UPPER(SUBSTITUTE(F63," ",""))=UPPER(SUBSTITUTE(G63," ","")),"Correct","Incorrect")) | J63: P+ 73 (ETS % correct)
A64: =IF(B64="","",COUNTA($B$2:B64)) -> 46 | B64: p.603 Q2 | C64: Carried Over (Prior Edition) | E64: Algebra | F64: D | H64: =IF(OR(F64="",G64=""),"",IF(UPPER(SUBSTITUTE(F64," ",""))=UPPER(SUBSTITUTE(G64," ","")),"Correct","Incorrect")) | J64: P+ 69 (ETS % correct)
A65: =IF(B65="","",COUNTA($B$2:B65)) -> 47 | B65: p.603 Q3 | C65: Carried Over (Prior Edition) | E65: Exponents/Roots | F65: B | H65: =IF(OR(F65="",G65=""),"",IF(UPPER(SUBSTITUTE(F65," ",""))=UPPER(SUBSTITUTE(G65," ","")),"Correct","Incorrect")) | J65: P+ 64 (ETS % correct)
A66: =IF(B66="","",COUNTA($B$2:B66)) -> 48 | B66: p.603 Q4 | C66: Carried Over (Prior Edition) | E66: Overlapping Set | F66: C | H66: =IF(OR(F66="",G66=""),"",IF(UPPER(SUBSTITUTE(F66," ",""))=UPPER(SUBSTITUTE(G66," ","")),"Correct","Incorrect")) | J66: P+ 41 (ETS % correct)
A67: =IF(B67="","",COUNTA($B$2:B67)) -> 49 | B67: p.604 Q5 | C67: Carried Over (Prior Edition) | E67: Exponents/Roots | F67: D | H67: =IF(OR(F67="",G67=""),"",IF(UPPER(SUBSTITUTE(F67," ",""))=UPPER(SUBSTITUTE(G67," ","")),"Correct","Incorrect")) | J67: P+ 36 (ETS % correct)
A68: =IF(B68="","",COUNTA($B$2:B68)) -> 50 | B68: p.604 Q6 | C68: Carried Over (Prior Edition) | E68: Percent and Interest Problem | F68: C | H68: =IF(OR(F68="",G68=""),"",IF(UPPER(SUBSTITUTE(F68," ",""))=UPPER(SUBSTITUTE(G68," ","")),"Correct","Incorrect")) | J68: P+ 72 (ETS % correct)
A69: =IF(B69="","",COUNTA($B$2:B69)) -> 51 | B69: p.604 Q7 | C69: Carried Over (Prior Edition) | E69: Geometry | F69: B | H69: =IF(OR(F69="",G69=""),"",IF(UPPER(SUBSTITUTE(F69," ",""))=UPPER(SUBSTITUTE(G69," ","")),"Correct","Incorrect")) | J69: P+ 36 (ETS % correct)

Sheet PS
A1: Q# | B1: Page / Q# in OG | C1: Status | D1: Difficulty | E1: Quant - Topic | F1: Official Answer | G1: Your Answer | H1: Correct? | I1: Error Type | J1: Notes | K1: Flag for Redo
A2: =IF(B2="","",COUNTA($B$2:B2)) -> 1 | B2: p.225 Q7 | C2: Carried Over (Prior Edition) | D2: Easy | E2: Geometry | F2: C | H2: =IF(OR(F2="",G2=""),"",IF(UPPER(SUBSTITUTE(F2," ",""))=UPPER(SUBSTITUTE(G2," ","")),"Correct","Incorrect"))
A3: =IF(B3="","",COUNTA($B$2:B3)) -> 2 | B3: p.225 Q8 | C3: Carried Over (Prior Edition) | D3: Easy | E3: Word Problem | F3: D | H3: =IF(OR(F3="",G3=""),"",IF(UPPER(SUBSTITUTE(F3," ",""))=UPPER(SUBSTITUTE(G3," ","")),"Correct","Incorrect"))
A4: =IF(B4="","",COUNTA($B$2:B4)) -> 3 | B4: p.226 Q9 | C4: Carried Over (Prior Edition) | D4: Easy | E4: Algebra | F4: A | H4: =IF(OR(F4="",G4=""),"",IF(UPPER(SUBSTITUTE(F4," ",""))=UPPER(SUBSTITUTE(G4," ","")),"Correct","Incorrect"))
A5: =IF(B5="","",COUNTA($B$2:B5)) -> 4 | B5: p.226 Q10 | C5: Carried Over (Prior Edition) | D5: Easy | E5: Word Problem | F5: C | H5: =IF(OR(F5="",G5=""),"",IF(UPPER(SUBSTITUTE(F5," ",""))=UPPER(SUBSTITUTE(G5," ","")),"Correct","Incorrect"))
A6: =IF(B6="","",COUNTA($B$2:B6)) -> 5 | B6: p.226 Q11 | C6: Carried Over (Prior Edition) | D6: Easy | E6: Fractions/Ratios/Decimals | F6: A | H6: =IF(OR(F6="",G6=""),"",IF(UPPER(SUBSTITUTE(F6," ",""))=UPPER(SUBSTITUTE(G6," ","")),"Correct","Incorrect"))
A7: =IF(B7="","",COUNTA($B$2:B7)) -> 6 | B7: p.227 Q12 | C7: Carried Over (Prior Edition) | D7: Easy | E7: Geometry | F7: 10 | H7: =IF(OR(F7="",G7=""),"",IF(UPPER(SUBSTITUTE(F7," ",""))=UPPER(SUBSTITUTE(G7," ","")),"Correct","Incorrect"))
A8: =IF(B8="","",COUNTA($B$2:B8)) -> 7 | B8: p.227 Q13 | C8: Carried Over (Prior Edition) | D8: Easy | E8: Statistics and Sets Problem | F8: 13 | H8: =IF(OR(F8="",G8=""),"",IF(UPPER(SUBSTITUTE(F8," ",""))=UPPER(SUBSTITUTE(G8," ","")),"Correct","Incorrect"))
A9: =IF(B9="","",COUNTA($B$2:B9)) -> 8 | B9: p.229 Q6 | C9: Carried Over (Prior Edition) | D9: Medium | E9: Exponents/Roots | F9: D | H9: =IF(OR(F9="",G9=""),"",IF(UPPER(SUBSTITUTE(F9," ",""))=UPPER(SUBSTITUTE(G9," ","")),"Correct","Incorrect"))
A10: =IF(B10="","",COUNTA($B$2:B10)) -> 9 | B10: p.230 Q7 | C10: Carried Over (Prior Edition) | D10: Medium | E10: Functions | F10: D | H10: =IF(OR(F10="",G10=""),"",IF(UPPER(SUBSTITUTE(F10," ",""))=UPPER(SUBSTITUTE(G10," ","")),"Correct","Incorrect"))
A11: =IF(B11="","",COUNTA($B$2:B11)) -> 10 | B11: p.230 Q8 | C11: Carried Over (Prior Edition) | D11: Medium | E11: Algebra | F11: E | H11: =IF(OR(F11="",G11=""),"",IF(UPPER(SUBSTITUTE(F11," ",""))=UPPER(SUBSTITUTE(G11," ","")),"Correct","Incorrect"))
A12: =IF(B12="","",COUNTA($B$2:B12)) -> 11 | B12: p.230 Q9 | C12: Carried Over (Prior Edition) | D12: Medium | E12: Mixture Problem | F12: C | H12: =IF(OR(F12="",G12=""),"",IF(UPPER(SUBSTITUTE(F12," ",""))=UPPER(SUBSTITUTE(G12," ","")),"Correct","Incorrect"))
A13: =IF(B13="","",COUNTA($B$2:B13)) -> 12 | B13: p.230 Q10 | C13: Carried Over (Prior Edition) | D13: Medium | E13: Probability | F13: C | H13: =IF(OR(F13="",G13=""),"",IF(UPPER(SUBSTITUTE(F13," ",""))=UPPER(SUBSTITUTE(G13," ","")),"Correct","Incorrect"))
... A26: =IF(B26="","",COUNTA($B$2:B26)) -> 25 | B26: p.238 Q15 | C26: Carried Over (Prior Edition) | D26: Hard | E26: Statistics and Sets Problem | F26: A | H26: =IF(OR(F26="",G26=""),"",IF(UPPER(SUBSTITUTE(F26," ",""))=UPPER(SUBSTITUTE(G26," ","")),"Correct","Incorrect"))
A27: =IF(B27="","",COUNTA($B$2:B27)) -> 1 | B27: p.287 Q7 | C27: New (Mixed Practice Set) | E27: Fractions/Ratios/Decimals | F27: B | H27: =IF(OR(F27="",G27=""),"",IF(UPPER(SUBSTITUTE(F27," ",""))=UPPER(SUBSTITUTE(G27," ","")),"Correct","Incorrect"))
A28: =IF(B28="","",COUNTA($B$2:B28)) -> 2 | B28: p.287 Q8 | C28: New (Mixed Practice Set) | E28: Probability | F28: B | H28: =IF(OR(F28="",G28=""),"",IF(UPPER(SUBSTITUTE(F28," ",""))=UPPER(SUBSTITUTE(G28," ","")),"Correct","Incorrect"))
A29: =IF(B29="","",COUNTA($B$2:B29)) -> 3 | B29: p.288 Q9 | C29: New (Mixed Practice Set) | E29: Work/Rate Problem | F29: B, C | H29: =IF(OR(F29="",G29=""),"",IF(UPPER(SUBSTITUTE(F29," ",""))=UPPER(SUBSTITUTE(G29," ","")),"Correct","Incorrect")) | J29: P+ 50 (ETS % correct)
A30: =IF(B30="","",COUNTA($B$2:B30)) -> 4 | B30: p.289 Q14 | C30: New (Mixed Practice Set) | E30: Numbers Properties | F30: C | H30: =IF(OR(F30="",G30=""),"",IF(UPPER(SUBSTITUTE(F30," ",""))=UPPER(SUBSTITUTE(G30," ","")),"Correct","Incorrect")) | J30: P+ 28 (ETS % correct)
A31: =IF(B31="","",COUNTA($B$2:B31)) -> 5 | B31: p.290 Q15 | C31: New (Mixed Practice Set) | E31: Statistics and Sets Problem | F31: 23/3 | H31: =IF(OR(F31="",G31=""),"",IF(UPPER(SUBSTITUTE(F31," ",""))=UPPER(SUBSTITUTE(G31," ","")),"Correct","Incorrect"))
A32: =IF(B32="","",COUNTA($B$2:B32)) -> 6 | B32: p.292 Q7 | C32: New (Mixed Practice Set) | E32: Counting Methods | F32: B | H32: =IF(OR(F32="",G32=""),"",IF(UPPER(SUBSTITUTE(F32," ",""))=UPPER(SUBSTITUTE(G32," ","")),"Correct","Incorrect")) | J32: P+ 38 (ETS % correct)
A33: =IF(B33="","",COUNTA($B$2:B33)) -> 9 | B33: p.294 Q12 | C33: New (Mixed Practice Set) | E33: Numbers Properties | F33: 6 | H33: =IF(OR(F33="",G33=""),"",IF(UPPER(SUBSTITUTE(F33," ",""))=UPPER(SUBSTITUTE(G33," ","")),"Correct","Incorrect")) | J33: P+ 24 (ETS % correct)
A34: =IF(B34="","",COUNTA($B$2:B34)) -> 10 | B34: p.294 Q13 | C34: New (Mixed Practice Set) | E34: Strange Symbols | F34: A | H34: =IF(OR(F34="",G34=""),"",IF(UPPER(SUBSTITUTE(F34," ",""))=UPPER(SUBSTITUTE(G34," ","")),"Correct","Incorrect")) | J34: P+ 19 (ETS % correct)
A35: =IF(B35="","",COUNTA($B$2:B35)) -> 11 | B35: p.295 Q14 | C35: New (Mixed Practice Set) | E35: Word Problem | F35: A, B | H35: =IF(OR(F35="",G35=""),"",IF(UPPER(SUBSTITUTE(F35," ",""))=UPPER(SUBSTITUTE(G35," ","")),"Correct","Incorrect")) | J35: P+ 22 (ETS % correct)
A36: =IF(B36="","",COUNTA($B$2:B36)) -> 12 | B36: p.295 Q15 | C36: New (Mixed Practice Set) | E36: Counting Methods | F36: E | H36: =IF(OR(F36="",G36=""),"",IF(UPPER(SUBSTITUTE(F36," ",""))=UPPER(SUBSTITUTE(G36," ","")),"Correct","Incorrect")) | J36: P+ 5 (ETS % correct)
A37: =IF(B37="","",COUNTA($B$2:B37)) -> 13 | B37: p.297 Q6 | C37: New (Mixed Practice Set) | E37: Numbers Properties | F37: C | H37: =IF(OR(F37="",G37=""),"",IF(UPPER(SUBSTITUTE(F37," ",""))=UPPER(SUBSTITUTE(G37," ","")),"Correct","Incorrect")) | J37: P+ 89 (ETS % correct)
A38: =IF(B38="","",COUNTA($B$2:B38)) -> 14 | B38: p.297 Q7 | C38: New (Mixed Practice Set) | E38: Divisibility/Multiples/Factors | F38: A, C, G | H38: =IF(OR(F38="",G38=""),"",IF(UPPER(SUBSTITUTE(F38," ",""))=UPPER(SUBSTITUTE(G38," ","")),"Correct","Incorrect")) | J38: P+ 86 (ETS % correct)
A39: =IF(B39="","",COUNTA($B$2:B39)) -> 15 | B39: p.298 Q8 | C39: New (Mixed Practice Set) | E39: Geometry | F39: B, C, D | H39: =IF(OR(F39="",G39=""),"",IF(UPPER(SUBSTITUTE(F39," ",""))=UPPER(SUBSTITUTE(G39," ","")),"Correct","Incorrect"))
A40: =IF(B40="","",COUNTA($B$2:B40)) -> 16 | B40: p.300 Q13 | C40: New (Mixed Practice Set) | E40: Overlapping Set | F40: C | H40: =IF(OR(F40="",G40=""),"",IF(UPPER(SUBSTITUTE(F40," ",""))=UPPER(SUBSTITUTE(G40," ","")),"Correct","Incorrect")) | J40: P+ 35 (ETS % correct)
A41: =IF(B41="","",COUNTA($B$2:B41)) -> 17 | B41: p.300 Q14 | C41: New (Mixed Practice Set) | E41: Probability | F41: B | H41: =IF(OR(F41="",G41=""),"",IF(UPPER(SUBSTITUTE(F41," ",""))=UPPER(SUBSTITUTE(G41," ","")),"Correct","Incorrect")) | J41: P+ 31 (ETS % correct)
A42: =IF(B42="","",COUNTA($B$2:B42)) -> 18 | B42: p.300 Q15 | C42: New (Mixed Practice Set) | E42: Coordinate Geometry | F42: 13/3 | H42: =IF(OR(F42="",G42=""),"",IF(UPPER(SUBSTITUTE(F42," ",""))=UPPER(SUBSTITUTE(G42," ","")),"Correct","Incorrect")) | J42: P+ 11 (ETS % correct)
A43: =IF(B43="","",COUNTA($B$2:B43)) -> 19 | B43: p.302 Q6 | C43: New (Mixed Practice Set) | E43: Word Problem | F43: E | H43: =IF(OR(F43="",G43=""),"",IF(UPPER(SUBSTITUTE(F43," ",""))=UPPER(SUBSTITUTE(G43," ","")),"Correct","Incorrect")) | J43: P+ 60 (ETS % correct)
A44: =IF(B44="","",COUNTA($B$2:B44)) -> 20 | B44: p.302 Q7 | C44: New (Mixed Practice Set) | E44: Geometry | F44: C | H44: =IF(OR(F44="",G44=""),"",IF(UPPER(SUBSTITUTE(F44," ",""))=UPPER(SUBSTITUTE(G44," ","")),"Correct","Incorrect")) | J44: P+ 38 (ETS % correct)
A45: =IF(B45="","",COUNTA($B$2:B45)) -> 21 | B45: p.302 Q8 | C45: New (Mixed Practice Set) | E45: Statistics and Sets Problem | F45: A | H45: =IF(OR(F45="",G45=""),"",IF(UPPER(SUBSTITUTE(F45," ",""))=UPPER(SUBSTITUTE(G45," ","")),"Correct","Incorrect")) | J45: P+ 44 (ETS % correct)
A46: =IF(B46="","",COUNTA($B$2:B46)) -> 22 | B46: p.303 Q9 | C46: New (Mixed Practice Set) | E46: Algebra | F46: B | H46: =IF(OR(F46="",G46=""),"",IF(UPPER(SUBSTITUTE(F46," ",""))=UPPER(SUBSTITUTE(G46," ","")),"Correct","Incorrect")) | J46: P+ 33 (ETS % correct)
A47: =IF(B47="","",COUNTA($B$2:B47)) -> 23 | B47: p.303 Q10 | C47: New (Mixed Practice Set) | E47: Statistics and Sets Problem | F47: C | H47: =IF(OR(F47="",G47=""),"",IF(UPPER(SUBSTITUTE(F47," ",""))=UPPER(SUBSTITUTE(G47," ","")),"Correct","Incorrect")) | J47: P+ 35 (ETS % correct)
A48: =IF(B48="","",COUNTA($B$2:B48)) -> 24 | B48: p.303 Q11 | C48: New (Mixed Practice Set) | E48: Geometry | F48: 2.5 | H48: =IF(OR(F48="",G48=""),"",IF(UPPER(SUBSTITUTE(F48," ",""))=UPPER(SUBSTITUTE(G48," ","")),"Correct","Incorrect")) | J48: P+ 30 (ETS % correct)
A49: =IF(B49="","",COUNTA($B$2:B49)) -> 25 | B49: p.303 Q12 | C49: New (Mixed Practice Set) | E49: Fractions/Ratios/Decimals | F49: C | H49: =IF(OR(F49="",G49=""),"",IF(UPPER(SUBSTITUTE(F49," ",""))=UPPER(SUBSTITUTE(G49," ","")),"Correct","Incorrect")) | J49: P+ 90 (ETS % correct)
A50: =IF(B50="","",COUNTA($B$2:B50)) -> 26 | B50: p.304 Q13 | C50: New (Mixed Practice Set) | E50: Overlapping Set | F50: C | H50: =IF(OR(F50="",G50=""),"",IF(UPPER(SUBSTITUTE(F50," ",""))=UPPER(SUBSTITUTE(G50," ","")),"Correct","Incorrect")) | J50: P+ 76 (ETS % correct)
A51: =IF(B51="","",COUNTA($B$2:B51)) -> 27 | B51: p.304 Q14 | C51: New (Mixed Practice Set) | E51: Inequalities | F51: D | H51: =IF(OR(F51="",G51=""),"",IF(UPPER(SUBSTITUTE(F51," ",""))=UPPER(SUBSTITUTE(G51," ","")),"Correct","Incorrect")) | J51: P+ 82 (ETS % correct)
... A85: =IF(B85="","",COUNTA($B$2:B85)) -> 61 | B85: p.514 Q20 | C85: Carried Over (Prior Edition) | E85: Geometry | F85: E | H85: =IF(OR(F85="",G85=""),"",IF(UPPER(SUBSTITUTE(F85," ",""))=UPPER(SUBSTITUTE(G85," ","")),"Correct","Incorrect")) | J85: P+ 30 (ETS % correct)
A86: =IF(B86="","",COUNTA($B$2:B86)) -> 62 | B86: p.598 Q6 | C86: Carried Over (Prior Edition) | E86: Word Problem | F86: A | H86: =IF(OR(F86="",G86=""),"",IF(UPPER(SUBSTITUTE(F86," ",""))=UPPER(SUBSTITUTE(G86," ","")),"Correct","Incorrect"))
A87: =IF(B87="","",COUNTA($B$2:B87)) -> 63 | B87: p.599 Q7 | C87: Carried Over (Prior Edition) | E87: Geometry | F87: 17.5 | H87: =IF(OR(F87="",G87=""),"",IF(UPPER(SUBSTITUTE(F87," ",""))=UPPER(SUBSTITUTE(G87," ","")),"Correct","Incorrect"))
A88: =IF(B88="","",COUNTA($B$2:B88)) -> 64 | B88: p.599 Q8 | C88: Carried Over (Prior Edition) | E88: Statistics and Sets Problem | F88: C | H88: =IF(OR(F88="",G88=""),"",IF(UPPER(SUBSTITUTE(F88," ",""))=UPPER(SUBSTITUTE(G88," ","")),"Correct","Incorrect"))
A89: =IF(B89="","",COUNTA($B$2:B89)) -> 65 | B89: p.600 Q9 | C89: Carried Over (Prior Edition) | E89: Algebra | F89: D | H89: =IF(OR(F89="",G89=""),"",IF(UPPER(SUBSTITUTE(F89," ",""))=UPPER(SUBSTITUTE(G89," ","")),"Correct","Incorrect")) | J89: P+ 77 (ETS % correct)
A90: =IF(B90="","",COUNTA($B$2:B90)) -> 66 | B90: p.600 Q10 | C90: Carried Over (Prior Edition) | E90: Statistics and Sets Problem | F90: B, D, E | H90: =IF(OR(F90="",G90=""),"",IF(UPPER(SUBSTITUTE(F90," ",""))=UPPER(SUBSTITUTE(G90," ","")),"Correct","Incorrect")) | J90: P+ 65 (ETS % correct)
A91: =IF(B91="","",COUNTA($B$2:B91)) -> 67 | B91: p.600 Q11 | C91: Carried Over (Prior Edition) | E91: Word Problem | F91: B | H91: =IF(OR(F91="",G91=""),"",IF(UPPER(SUBSTITUTE(F91," ",""))=UPPER(SUBSTITUTE(G91," ","")),"Correct","Incorrect")) | J91: P+ 51 (ETS % correct)
A92: =IF(B92="","",COUNTA($B$2:B92)) -> 68 | B92: p.601 Q12 | C92: Carried Over (Prior Edition) | E92: Absolute Values/Modules | F92: A, F | H92: =IF(OR(F92="",G92=""),"",IF(UPPER(SUBSTITUTE(F92," ",""))=UPPER(SUBSTITUTE(G92," ","")),"Correct","Incorrect")) | J92: P+ 70 (ETS % correct)
A93: =IF(B93="","",COUNTA($B$2:B93)) -> 69 | B93: p.601 Q13 | C93: Carried Over (Prior Edition) | E93: Strange Symbols | F93: D | H93: =IF(OR(F93="",G93=""),"",IF(UPPER(SUBSTITUTE(F93," ",""))=UPPER(SUBSTITUTE(G93," ","")),"Correct","Incorrect")) | J93: P+ 42 (ETS % correct)
A94: =IF(B94="","",COUNTA($B$2:B94)) -> 70 | B94: p.601 Q14 | C94: Carried Over (Prior Edition) | E94: Inequalities | F94: E | H94: =IF(OR(F94="",G94=""),"",IF(UPPER(SUBSTITUTE(F94," ",""))=UPPER(SUBSTITUTE(G94," ","")),"Correct","Incorrect")) | J94: P+ 40 (ETS % correct)
A95: =IF(B95="","",COUNTA($B$2:B95)) -> 71 | B95: p.601 Q15 | C95: Carried Over (Prior Edition) | E95: Geometry | F95: 13 | H95: =IF(OR(F95="",G95=""),"",IF(UPPER(SUBSTITUTE(F95," ",""))=UPPER(SUBSTITUTE(G95," ","")),"Correct","Incorrect")) | J95: P+ 62 (ETS % correct)
A96: =IF(B96="","",COUNTA($B$2:B96)) -> 72 | B96: p.605 Q8 | C96: Carried Over (Prior Edition) | E96: Coordinate Geometry | F96: D | H96: =IF(OR(F96="",G96=""),"",IF(UPPER(SUBSTITUTE(F96," ",""))=UPPER(SUBSTITUTE(G96," ","")),"Correct","Incorrect")) | J96: P+ 69 (ETS % correct)
A97: =IF(B97="","",COUNTA($B$2:B97)) -> 73 | B97: p.605 Q9 | C97: Carried Over (Prior Edition) | E97: Geometry | F97: 156 | H97: =IF(OR(F97="",G97=""),"",IF(UPPER(SUBSTITUTE(F97," ",""))=UPPER(SUBSTITUTE(G97," ","")),"Correct","Incorrect")) | J97: P+ 78 (ETS % correct)
A98: =IF(B98="","",COUNTA($B$2:B98)) -> 74 | B98: p.606 Q10 | C98: Carried Over (Prior Edition) | E98: Percent and Interest Problem | F98: A | H98: =IF(OR(F98="",G98=""),"",IF(UPPER(SUBSTITUTE(F98," ",""))=UPPER(SUBSTITUTE(G98," ","")),"Correct","Incorrect")) | J98: P+ 66 (ETS % correct)
A99: =IF(B99="","",COUNTA($B$2:B99)) -> 75 | B99: p.606 Q11 | C99: Carried Over (Prior Edition) | E99: Numbers Properties | F99: 30 | H99: =IF(OR(F99="",G99=""),"",IF(UPPER(SUBSTITUTE(F99," ",""))=UPPER(SUBSTITUTE(G99," ","")),"Correct","Incorrect")) | J99: P+ 72 (ETS % correct)
A100: =IF(B100="","",COUNTA($B$2:B100)) -> 76 | B100: p.606 Q12 | C100: Carried Over (Prior Edition) | E100: Inequalities | F100: B, C | H100: =IF(OR(F100="",G100=""),"",IF(UPPER(SUBSTITUTE(F100," ",""))=UPPER(SUBSTITUTE(G100," ","")),"Correct","Incorrect")) | J100: P+ 58 (ETS % correct)
... A108: =IF(B108="","",COUNTA($B$2:B108)) -> 84 | B108: p.609 Q20 | C108: Carried Over (Prior Edition) | E108: Probability | F108: B | H108: =IF(OR(F108="",G108=""),"",IF(UPPER(SUBSTITUTE(F108," ",""))=UPPER(SUBSTITUTE(G108," ","")),"Correct","Incorrect")) | J108: P+ 32 (ETS % correct)

Sheet DI
A1: Q# | B1: Page / Q# in OG | C1: Status | D1: Difficulty | E1: Quant - Topic | F1: Official Answer | G1: Your Answer | H1: Correct? | I1: Error Type | J1: Notes | K1: Flag for Redo
A2: =IF(B2="","",COUNTA($B$2:B2)) -> 1 | B2: p.227 Q14 | C2: Carried Over (Prior Edition) | D2: Easy | E2: Data Analysis | F2: A, B, C | H2: =IF(OR(F2="",G2=""),"",IF(UPPER(SUBSTITUTE(F2," ",""))=UPPER(SUBSTITUTE(G2," ","")),"Correct","Incorrect"))
A3: =IF(B3="","",COUNTA($B$2:B3)) -> 2 | B3: p.239 Q1 | C3: Carried Over (Prior Edition) | D3: Medium | E3: Data Analysis | F3: A | H3: =IF(OR(F3="",G3=""),"",IF(UPPER(SUBSTITUTE(F3," ",""))=UPPER(SUBSTITUTE(G3," ","")),"Correct","Incorrect"))
A4: =IF(B4="","",COUNTA($B$2:B4)) -> 3 | B4: p.239 Q2 | C4: Carried Over (Prior Edition) | D4: Medium | E4: Data Analysis | F4: E | H4: =IF(OR(F4="",G4=""),"",IF(UPPER(SUBSTITUTE(F4," ",""))=UPPER(SUBSTITUTE(G4," ","")),"Correct","Incorrect"))
A5: =IF(B5="","",COUNTA($B$2:B5)) -> 4 | B5: p.240 Q3 | C5: Carried Over (Prior Edition) | D5: Hard | E5: Data Analysis | F5: 24/87 | H5: =IF(OR(F5="",G5=""),"",IF(UPPER(SUBSTITUTE(F5," ",""))=UPPER(SUBSTITUTE(G5," ","")),"Correct","Incorrect"))
A6: =IF(B6="","",COUNTA($B$2:B6)) -> 5 | B6: p.240 Q4 | C6: Carried Over (Prior Edition) | D6: Easy | E6: Data Analysis | F6: A, B, C, F, G, H | H6: =IF(OR(F6="",G6=""),"",IF(UPPER(SUBSTITUTE(F6," ",""))=UPPER(SUBSTITUTE(G6," ","")),"Correct","Incorrect"))
A7: =IF(B7="","",COUNTA($B$2:B7)) -> 6 | B7: p.241 Q5 | C7: Carried Over (Prior Edition) | D7: Medium | E7: Data Analysis | F7: E | H7: =IF(OR(F7="",G7=""),"",IF(UPPER(SUBSTITUTE(F7," ",""))=UPPER(SUBSTITUTE(G7," ","")),"Correct","Incorrect"))
A8: =IF(B8="","",COUNTA($B$2:B8)) -> 7 | B8: p.241 Q6 | C8: Carried Over (Prior Edition) | D8: Medium | E8: Data Analysis | F8: E | H8: =IF(OR(F8="",G8=""),"",IF(UPPER(SUBSTITUTE(F8," ",""))=UPPER(SUBSTITUTE(G8," ","")),"Correct","Incorrect"))
A9: =IF(B9="","",COUNTA($B$2:B9)) -> 8 | B9: p.241 Q7 | C9: Carried Over (Prior Edition) | D9: Hard | E9: Data Analysis | F9: A | H9: =IF(OR(F9="",G9=""),"",IF(UPPER(SUBSTITUTE(F9," ",""))=UPPER(SUBSTITUTE(G9," ","")),"Correct","Incorrect"))
A10: =IF(B10="","",COUNTA($B$2:B10)) -> 1 | B10: p.289 Q10 | C10: New (Mixed Practice Set) | E10: Data Analysis | F10: D | H10: =IF(OR(F10="",G10=""),"",IF(UPPER(SUBSTITUTE(F10," ",""))=UPPER(SUBSTITUTE(G10," ","")),"Correct","Incorrect")) | J10: P+ 88 (ETS % correct)
A11: =IF(B11="","",COUNTA($B$2:B11)) -> 2 | B11: p.289 Q11 | C11: New (Mixed Practice Set) | E11: Percent and Interest Problem | F11: 32% | H11: =IF(OR(F11="",G11=""),"",IF(UPPER(SUBSTITUTE(F11," ",""))=UPPER(SUBSTITUTE(G11," ","")),"Correct","Incorrect")) | J11: P+ 42 (ETS % correct)
A12: =IF(B12="","",COUNTA($B$2:B12)) -> 3 | B12: p.289 Q12 | C12: New (Mixed Practice Set) | E12: Data Analysis | F12: A | H12: =IF(OR(F12="",G12=""),"",IF(UPPER(SUBSTITUTE(F12," ",""))=UPPER(SUBSTITUTE(G12," ","")),"Correct","Incorrect")) | J12: P+ 54 (ETS % correct)
A13: =IF(B13="","",COUNTA($B$2:B13)) -> 4 | B13: p.289 Q13 | C13: New (Mixed Practice Set) | E13: Data Analysis | F13: D | H13: =IF(OR(F13="",G13=""),"",IF(UPPER(SUBSTITUTE(F13," ",""))=UPPER(SUBSTITUTE(G13," ","")),"Correct","Incorrect")) | J13: P+ 55 (ETS % correct)
A14: =IF(B14="","",COUNTA($B$2:B14)) -> 13 | B14: p.293 Q8 | C14: New (Mixed Practice Set) | E14: Data Analysis | F14: A | H14: =IF(OR(F14="",G14=""),"",IF(UPPER(SUBSTITUTE(F14," ",""))=UPPER(SUBSTITUTE(G14," ","")),"Correct","Incorrect"))
A15: =IF(B15="","",COUNTA($B$2:B15)) -> 14 | B15: p.293 Q9 | C15: New (Mixed Practice Set) | E15: Data Analysis | F15: D | H15: =IF(OR(F15="",G15=""),"",IF(UPPER(SUBSTITUTE(F15," ",""))=UPPER(SUBSTITUTE(G15," ","")),"Correct","Incorrect"))
A16: =IF(B16="","",COUNTA($B$2:B16)) -> 5 | B16: p.294 Q10 | C16: New (Mixed Practice Set) | E16: Data Analysis | F16: A, B, C, D | H16: =IF(OR(F16="",G16=""),"",IF(UPPER(SUBSTITUTE(F16," ",""))=UPPER(SUBSTITUTE(G16," ","")),"Correct","Incorrect")) | J16: P+ 48 (ETS % correct)
A17: =IF(B17="","",COUNTA($B$2:B17)) -> 6 | B17: p.294 Q11 | C17: New (Mixed Practice Set) | E17: Percent and Interest Problem | F17: C | H17: =IF(OR(F17="",G17=""),"",IF(UPPER(SUBSTITUTE(F17," ",""))=UPPER(SUBSTITUTE(G17," ","")),"Correct","Incorrect")) | J17: P+ 42 (ETS % correct)
A18: =IF(B18="","",COUNTA($B$2:B18)) -> 7 | B18: p.299 Q9 | C18: New (Mixed Practice Set) | E18: Data Analysis | F18: B | H18: =IF(OR(F18="",G18=""),"",IF(UPPER(SUBSTITUTE(F18," ",""))=UPPER(SUBSTITUTE(G18," ","")),"Correct","Incorrect")) | J18: P+ 73 (ETS % correct)
A19: =IF(B19="","",COUNTA($B$2:B19)) -> 8 | B19: p.299 Q10 | C19: New (Mixed Practice Set) | E19: Data Analysis | F19: E | H19: =IF(OR(F19="",G19=""),"",IF(UPPER(SUBSTITUTE(F19," ",""))=UPPER(SUBSTITUTE(G19," ","")),"Correct","Incorrect")) | J19: P+ 40 (ETS % correct)
A20: =IF(B20="","",COUNTA($B$2:B20)) -> 9 | B20: p.299 Q11 | C20: New (Mixed Practice Set) | E20: Data Analysis | F20: A | H20: =IF(OR(F20="",G20=""),"",IF(UPPER(SUBSTITUTE(F20," ",""))=UPPER(SUBSTITUTE(G20," ","")),"Correct","Incorrect")) | J20: P+ 39 (ETS % correct)
A21: =IF(B21="","",COUNTA($B$2:B21)) -> 10 | B21: p.299 Q12 | C21: New (Mixed Practice Set) | E21: Percent and Interest Problem | F21: 53% | H21: =IF(OR(F21="",G21=""),"",IF(UPPER(SUBSTITUTE(F21," ",""))=UPPER(SUBSTITUTE(G21," ","")),"Correct","Incorrect")) | J21: P+ 25 (ETS % correct)
